BEGIN:VCALENDAR
VERSION:2.0
PRODID:-//Learn Spanish in Madrid, Spain: TANDEM Madrid Spanish Courses. - ECPv5.3.1.1//NONSGML v1.0//EN
CALSCALE:GREGORIAN
METHOD:PUBLISH
X-WR-CALNAME:Learn Spanish in Madrid, Spain: TANDEM Madrid Spanish Courses.
X-ORIGINAL-URL:https://old.tandemmadrid.com
X-WR-CALDESC:Events for Learn Spanish in Madrid, Spain: TANDEM Madrid Spanish Courses.
BEGIN:VTIMEZONE
TZID:Europe/Madrid
BEGIN:DAYLIGHT
TZOFFSETFROM:+0100
TZOFFSETTO:+0200
TZNAME:CEST
DTSTART:20230326T010000
END:DAYLIGHT
BEGIN:STANDARD
TZOFFSETFROM:+0200
TZOFFSETTO:+0100
TZNAME:CET
DTSTART:20231029T010000
END:STANDARD
END:VTIMEZONE
BEGIN:VEVENT
DTSTART;TZID=Europe/Madrid:20231130T194500
DTEND;TZID=Europe/Madrid:20231130T210000
DTSTAMP:20260421T024047
CREATED:20231127T095140Z
LAST-MODIFIED:20231127T095708Z
UID:5812-1701373500-1701378000@old.tandemmadrid.com
SUMMARY:Cinema at Embajadores: El maestro que prometió el mar
DESCRIPTION:[vc_row][vc_column][vc_column_text] \nAriadna (Laia Costa) discovers that her grandfather has long been searching for the remains of her father\, who disappeared during the Civil War. Determined to help him\, she travels to Burgos\, where they are exhuming a mass grave where he might be buried. During her stay there\, she learns the story of Antoni Benaiges (Enric Auquer)\, a young teacher from Tarragona who before the war was her grandfather’s teacher. Through an innovative pedagogical method Antoni inspired his students and made them a promise: to take them to see the sea. \nRegistration at the secretariat. \nMeeting point: Cinema entrance\, (Glorieta Santa María de la Cabeza\,5) at 19:45 P.M.\n[/vc_column_text][/vc_column][/vc_row]
URL:https://old.tandemmadrid.com/event/cinema-maestro-prometio-mar/
CATEGORIES:Cinema
ATTACH;FMTTYPE=image/jpeg:https://old.tandemmadrid.com/tandem/wp-content/uploads/2023/08/palomitas.jpg
END:VEVENT
BEGIN:VEVENT
DTSTART;TZID=Europe/Madrid:20231204T190000
DTEND;TZID=Europe/Madrid:20231204T203000
DTSTAMP:20260421T024047
CREATED:20171113T142027Z
LAST-MODIFIED:20231201T131619Z
UID:3870-1701716400-1701721800@old.tandemmadrid.com
SUMMARY:TANDEM Cultural Program: Walk Through Old Madrid + Chocolate with churros
DESCRIPTION:[vc_row][vc_column][vc_column_text] \nIt is time to know the secrets of old Madrid or Madrid de los Austrias\, a large part of the great capital of Spain. An area between the administrative districts of Sol and Palacio with a lot of tourist attraction because within it there are famous monuments in Madrid as the Royal Palace or the Puerta del Sol. \nAnd what better than to continue with the old Madrid with the combination of chocolate y churros A delicious dish typical and very famous to taste in Madrid. They also have chocolate con porras\, a dish similar to churros but with a different shape and with a dough made differently. \nIt is a deeply rooted tradition throughout Spain\, including Madrid\, and has spread to several Latin American countries. More than a gastronomic delight\, having chocolate with churros is also a social event. Whether it’s for breakfast or afternoon snack\, it’s a good opportunity to have a break from your daily work or city sightseeing to enjoy a good conversation around a table\, and gather strength to continue the day. \nMeeting point: SOL (Statue of the Bear and the Strawberry Tree) at 19.00 P.M.\n* Chocolate + churros price not included \n[/vc_column_text][/vc_column][/vc_row]
URL:https://old.tandemmadrid.com/event/chocolate-with-churros/
LOCATION:TANDEM Madrid\, Calle Marqués de Cubas\, 8\, Madrid\, Spain
CATEGORIES:City Sightseeing,Cultural clases,Going out,TANDEM Cultural program
ATTACH;FMTTYPE=image/jpeg:https://old.tandemmadrid.com/tandem/wp-content/uploads/2017/11/chocolate-churros.jpg
ORGANIZER;CN="TANDEM%20Madrid":MAILTO:spanishcourses@tandem-madrid.com, 
END:VEVENT
BEGIN:VEVENT
DTSTART;TZID=Europe/Madrid:20231206T194500
DTEND;TZID=Europe/Madrid:20231206T210000
DTSTAMP:20260421T024047
CREATED:20180210T203612Z
LAST-MODIFIED:20231201T122019Z
UID:3988-1701891900-1701896400@old.tandemmadrid.com
SUMMARY:TANDEM Cultural Program: Flamenco show in Madrid
DESCRIPTION:[vc_row][vc_column][vc_column_text]\nFlamenco is passion\, emotion and pure feeling.\nIt is the result of a cultural crossbreeding: Gypsy\, Arab\, Christian and Jewish. It is an art that integrates dance\, singing and guitar music and cannot music and cannot be described in words. words. It must be live it. In this show you will be able to feel it. Nowadays flamenco is appreciated and practiced all over the the world.  \nIn 2010 UNESCO declared flamenco Intangible Cultural Heritage of Humanity. Cultural Heritage of Humanity. In addition\, the theater is  located in one of the most central and picturesque neighborhoods of and picturesque neighborhoods of Madrid\, ideal to have a drink at the outing. \nWith this flamenco show\, you’ll be able to see a little of the passion that this dance arouses\, and learn a little more about the Spanish culture. Come with TANDEM Madrid and enjoy a fun afternoon where you can learn about Spanish culture from up close. It will also be a good time to have a drink if you feel like it. \nRegistration at the secretariat. Price 25€ \nMeeting point:  Alfil Theater\, C\ Pez\, 10 at 7:45 P.M.\n[/vc_column_text][/vc_column][/vc_row]
URL:https://old.tandemmadrid.com/event/tandem-cultural-program-flamenco-show/
LOCATION:Teatro Alfil\, Calle del Pez\, 10\, Madrid\, Madrid\, 28004\, Spain
CATEGORIES:Art Exhibitions,Cultural clases,Music,TANDEM Cultural program,Theater
ATTACH;FMTTYPE=image/jpeg:https://old.tandemmadrid.com/tandem/wp-content/uploads/2015/10/flamenco.jpg
ORGANIZER;CN="TANDEM%20Madrid":MAILTO:spanishcourses@tandem-madrid.com, 
END:VEVENT
BEGIN:VEVENT
DTSTART;TZID=Europe/Madrid:20231213T150000
DTEND;TZID=Europe/Madrid:20231213T170000
DTSTAMP:20260421T024047
CREATED:20181207T161635Z
LAST-MODIFIED:20231207T121027Z
UID:4233-1702479600-1702486800@old.tandemmadrid.com
SUMMARY:TANDEM Cultural Program: Christmas crafts market in Recoletos\, Madrid
DESCRIPTION:When Christmas arrive\, the Plaza Mayor in Madrid becomes a large market full of colorful booths where citizens and tourists find all kinds of figures of Bethlehem\, Christmas musical instruments\, toys and fun items. \n Meeting point:  TANDEM Madrid. At 3:00 p.m
URL:https://old.tandemmadrid.com/event/tandem-cultural-program-christmas-madrid/
CATEGORIES:Going out,TANDEM Cultural program
ATTACH;FMTTYPE=image/jpeg:https://old.tandemmadrid.com/tandem/wp-content/uploads/2018/12/plaza-mayor-madrid-navidad.jpg
ORGANIZER;CN="TANDEM%20Madrid":MAILTO:spanishcourses@tandem-madrid.com, 
END:VEVENT
BEGIN:VEVENT
DTSTART;TZID=Europe/Madrid:20231214T184500
DTEND;TZID=Europe/Madrid:20231214T200000
DTSTAMP:20260421T024047
CREATED:20201130T133212Z
LAST-MODIFIED:20231207T115611Z
UID:5110-1702579500-1702584000@old.tandemmadrid.com
SUMMARY:TANDEM Cultural Program: Sweets and Christmas Lights
DESCRIPTION:[vc_row][vc_column][vc_column_text] \nSweets and Christmas Lights\nChristmas sweets and lights are part of Madrid’s Christmas tradition. Christmas is coming and taking a tour to get to know and taste the most typical sweets of the city is always a good plan. The most classic sweets such as “turrón”\, “mazapan”\, “polvorones” and the famous “roscón de reyes” which come together with the most popular and exquisite shops that can be found on the streets of Madrid. \nThe market in the Plaza Mayor in Madrid is synonymous with tradition since it has existed since the 19th century. In it you can find all kinds of decorations and Christmas objects such as Christmas nativity and joke items. The market stalls retain their usual decoration similar to the markets of northern Europe with pointed and red roofs. \nMeeting point: Plaza de Sol (Statue of the Bear and the Strawberry Tree)\, at 6.45 pm\n[/vc_column_text][/vc_column][/vc_row]
URL:https://old.tandemmadrid.com/event/sweets-christmas-lights/
CATEGORIES:TANDEM Cultural program
ATTACH;FMTTYPE=image/jpeg:https://old.tandemmadrid.com/tandem/wp-content/uploads/2020/11/madrid-christmas.jpg
ORGANIZER;CN="TANDEM%20Madrid":MAILTO:spanishcourses@tandem-madrid.com, 
END:VEVENT
BEGIN:VEVENT
DTSTART;TZID=Europe/Madrid:20231220T131500
DTEND;TZID=Europe/Madrid:20231220T170000
DTSTAMP:20260421T024047
CREATED:20231215T101041Z
LAST-MODIFIED:20231215T101041Z
UID:5818-1703078100-1703091600@old.tandemmadrid.com
SUMMARY:Visit to the neapolitan nativity scene in centrocentro and permanent exhibitions
DESCRIPTION:Visit to the neapolitan nativity scene in centrocentro and permanent exhibitions\, after the visit\, we will go up to the roof of the building to contemplate the breathtaking views. \nMeeting point: TANDEM Madrid\, at 1:15 P.M.
URL:https://old.tandemmadrid.com/event/visit-neapolitan-nativity-scene-centrocentro/
CATEGORIES:Cultural Exhibitions,TANDEM Cultural program
ATTACH;FMTTYPE=image/jpeg:https://old.tandemmadrid.com/tandem/wp-content/uploads/2020/11/madrid-christmas.jpg
END:VEVENT
BEGIN:VEVENT
DTSTART;TZID=Europe/Madrid:20231221T183000
DTEND;TZID=Europe/Madrid:20231221T210000
DTSTAMP:20260421T024047
CREATED:20231215T102504Z
LAST-MODIFIED:20231215T102531Z
UID:5819-1703183400-1703192400@old.tandemmadrid.com
SUMMARY:Ice skating and Christmas market at the reina sofia museum square.
DESCRIPTION:Ice skating and Christmas market at the reina sofia museum square. \nMeeting point: Square of the reina sofia museum\, next to the door of the “ale-hop” store \, at 18:30 P.M.
URL:https://old.tandemmadrid.com/event/ice-skating-christmas-market/
CATEGORIES:Sports,TANDEM Cultural program
ATTACH;FMTTYPE=image/jpeg:https://old.tandemmadrid.com/tandem/wp-content/uploads/2023/12/patinaje-sobre-hielo.jpg
END:VEVENT
END:VCALENDAR