BEGIN:VCALENDAR
VERSION:2.0
PRODID:-//Learn Spanish in Madrid, Spain: TANDEM Madrid Spanish Courses. - ECPv5.3.1.1//NONSGML v1.0//EN
CALSCALE:GREGORIAN
METHOD:PUBLISH
X-WR-CALNAME:Learn Spanish in Madrid, Spain: TANDEM Madrid Spanish Courses.
X-ORIGINAL-URL:https://old.tandemmadrid.com
X-WR-CALDESC:Events for Learn Spanish in Madrid, Spain: TANDEM Madrid Spanish Courses.
BEGIN:VTIMEZONE
TZID:Europe/Madrid
BEGIN:DAYLIGHT
TZOFFSETFROM:+0100
TZOFFSETTO:+0200
TZNAME:CEST
DTSTART:20230326T010000
END:DAYLIGHT
BEGIN:STANDARD
TZOFFSETFROM:+0200
TZOFFSETTO:+0100
TZNAME:CET
DTSTART:20231029T010000
END:STANDARD
END:VTIMEZONE
BEGIN:VEVENT
DTSTART;TZID=Europe/Madrid:20230928T180000
DTEND;TZID=Europe/Madrid:20230928T200000
DTSTAMP:20260421T054524
CREATED:20230922T084125Z
LAST-MODIFIED:20230922T084831Z
UID:5787-1695924000-1695931200@old.tandemmadrid.com
SUMMARY:Walk & fake news: The lie factory!
DESCRIPTION:What are they really and how do they spread? What tools do we have to make them? How can we detect and combat them? \nAn exhibition that addresses the phenomenon of fake news over the centuries and poses a reflection on the impact they generate in our society. \nMeeting point: TANDEM Madrid\, at 6:00 P.M. \n(optional event)
URL:https://old.tandemmadrid.com/event/walk-fake-news/
CATEGORIES:TANDEM Cultural program
ATTACH;FMTTYPE=image/jpeg:https://old.tandemmadrid.com/tandem/wp-content/uploads/2015/12/cafe-y-noticias.jpg
END:VEVENT
BEGIN:VEVENT
DTSTART;TZID=Europe/Madrid:20231003T133000
DTEND;TZID=Europe/Madrid:20231003T170000
DTSTAMP:20260421T054524
CREATED:20160306T171904Z
LAST-MODIFIED:20230929T135717Z
UID:2545-1696339800-1696352400@old.tandemmadrid.com
SUMMARY:TANDEM Cultural Program: "Cool Neighbourhoods" Lavapiés: The Most Multicultural Neighborhood
DESCRIPTION:Lavapiés is one of the most colorful and multicultural neighborhoods in Madrid. This lively neighborhood is located near the center of the city\, between Puerta del Sol and Embajadores. It has numerous bars\, restaurants\, and entertainment establishments of various types\, offering sensations from all continents of the world\, and a very lively nightlife. The interesting thing about this neighborhood is its own personality since there is such a fusion of cultures that the neighborhood has a varied and picturesque aesthetic. \nIn this activity\, we will make a tour around the neighborhood of Lavapiés making some stops in the bars to have some drinks. We will pass by the cultural centers of the Tabacalera and the Casa Encendida\, places where shows and events of avant-garde art are presented. Also\, we will take a walk through the San Fernando Market. In short\, a very broad and typical neighborhood of Madrid that leaves no one who passes by indifferent. \nMeeting point: TANDEM Madrid at 1:30 P.M. Drinks not included
URL:https://old.tandemmadrid.com/event/walk-lavapies/
LOCATION:Lavapies District\, Plaza de Lavapies\, Madrid\, 28012\, Spain
CATEGORIES:Going out,TANDEM Cultural program
ATTACH;FMTTYPE=image/jpeg:https://old.tandemmadrid.com/tandem/wp-content/uploads/2015/10/lavapies.jpg
ORGANIZER;CN="TANDEM%20Madrid":MAILTO:spanishcourses@tandem-madrid.com, 
END:VEVENT
BEGIN:VEVENT
DTSTART;TZID=Europe/Madrid:20231005T200000
DTEND;TZID=Europe/Madrid:20231005T220000
DTSTAMP:20260421T054524
CREATED:20230519T103431Z
LAST-MODIFIED:20231002T085032Z
UID:5748-1696536000-1696543200@old.tandemmadrid.com
SUMMARY:Visit to the cultural center "La casa encendida" and exhibition
DESCRIPTION:La Casa Encendida is an open and dynamic social and cultural center. Its cultural program offers performing arts\, cinema\, exhibitions and all kinds of manifestations of contemporary creation.  \nMeeting point: TANDEM Madrid\, at 8:00 P.M.\nPhoto of “La casa encendida” on Wikimedia by Carlos Crespo
URL:https://old.tandemmadrid.com/event/la-casa-encendida-exhibition/
CATEGORIES:Art Exhibitions
ATTACH;FMTTYPE=image/jpeg:https://old.tandemmadrid.com/tandem/wp-content/uploads/2023/05/la-casa-encendida.jpg
END:VEVENT
BEGIN:VEVENT
DTSTART;TZID=Europe/Madrid:20231011T193000
DTEND;TZID=Europe/Madrid:20231011T213000
DTSTAMP:20260421T054524
CREATED:20231006T133725Z
LAST-MODIFIED:20231006T135336Z
UID:5790-1697052600-1697059800@old.tandemmadrid.com
SUMMARY:Film: They shot the piano player
DESCRIPTION:[vc_row][vc_column][vc_column_text]\nA New York music journalist begins a thrilling investigation into the mysterious disappearance of Brazilian pianist Tenorio Jr\, a regular of Vinicius de Moraes\, among others. This animated thriller set to the rhythm of jazz and bossa-nova is a turning point just before the Latin American continent was engulfed by totalitarian regimes. \n[/vc_column_text][/vc_column][/vc_row][vc_row][vc_column][vc_column_text] \nMeeting point: Entrance of the cinema “Yelmo IDEAL” in C\ Dr. Cortezo\,6 at 19:30hTicket price: 4\,20€\n[/vc_column_text][/vc_column][/vc_row]
URL:https://old.tandemmadrid.com/event/yelmo-shot-piano-player/
CATEGORIES:Cinema
ATTACH;FMTTYPE=image/jpeg:https://old.tandemmadrid.com/tandem/wp-content/uploads/2023/10/piano.jpg
END:VEVENT
BEGIN:VEVENT
DTSTART;TZID=Europe/Madrid:20231017T180000
DTEND;TZID=Europe/Madrid:20231017T200000
DTSTAMP:20260421T054524
CREATED:20210723T092744Z
LAST-MODIFIED:20231013T090000Z
UID:5225-1697565600-1697572800@old.tandemmadrid.com
SUMMARY:TANDEM Cultural Program: Bike through the Retiro
DESCRIPTION:[vc_row][vc_column][vc_column_text] \nCome with Tandem Madrid to enjoy a typical Madrid afternoon in the Retiro Park. \nThe Retiro Park is one of the largest parks in central Madrid\, a place where many locals gather to enjoy a nice afternoon. This park is located near the Puerta de Alcalá and is not far from the Prado Museum\, so besides being a beautiful park you can also say that it is in a privileged location. \nMeeting Point: TANDEM Madrid at 18:00 pmCost: 10€\n[/vc_column_text][/vc_column][/vc_row]
URL:https://old.tandemmadrid.com/event/retiro/
CATEGORIES:City Sightseeing,Excursions,TANDEM Cultural program
ATTACH;FMTTYPE=image/jpeg:https://old.tandemmadrid.com/tandem/wp-content/uploads/2021/07/boats-retiro-park-madrid.jpg
END:VEVENT
BEGIN:VEVENT
DTSTART;TZID=Europe/Madrid:20231018T180000
DTEND;TZID=Europe/Madrid:20231018T200000
DTSTAMP:20260421T054524
CREATED:20230908T141738Z
LAST-MODIFIED:20231013T090119Z
UID:5784-1697652000-1697659200@old.tandemmadrid.com
SUMMARY:Visit to the "centrocentro" building (exhibitions and view of madrid from the rooftop)
DESCRIPTION:[vc_row][vc_column][vc_column_text]\nCentroCentro is a space for intercultural encounters\, where different artistic disciplines (from architecture and design to poetry) have a place. \nIt is located in one of the most emblematic buildings in Madrid: the Palacio de Cibeles\, former Telecommunications Palace\, built in the early twentieth century. \nIn this visit we can enjoy the different exhibitions that the center hosts: “Elogio de lo Cursi”\, “Un viaje extraordinario” and exhibition of “PhotoEspaña 2023”. \nAfter the tour of the different exhibitions\, we will contemplate the fantastic panoramic views of the city from the viewpoint of the center\, located in the great tower of the Palace. \n[/vc_column_text][/vc_column][/vc_row][vc_row][vc_column][vc_column_text] \nMeeting point: TANDEM at 18:00h\n[/vc_column_text][/vc_column][/vc_row]
URL:https://old.tandemmadrid.com/event/centrocentro-exhibitions-view-madrid-rooftop/
CATEGORIES:Art Exhibitions,TANDEM Cultural program
ATTACH;FMTTYPE=image/jpeg:https://old.tandemmadrid.com/tandem/wp-content/uploads/2015/12/cibeles-madrid.jpg
END:VEVENT
BEGIN:VEVENT
DTSTART;TZID=Europe/Madrid:20231024T153000
DTEND;TZID=Europe/Madrid:20231024T170000
DTSTAMP:20260421T054524
CREATED:20171029T124958Z
LAST-MODIFIED:20231019T112446Z
UID:3862-1698161400-1698166800@old.tandemmadrid.com
SUMMARY:TANDEM Cultural Program: Route of altars of Madrid
DESCRIPTION:[vc_row][vc_column][vc_column_text] \nThe Day of the Dead is a tradition that originated in America and today is celebrated in most Christian countries\, coinciding with All Saints’ Day. It usually occurs on November 1 and 2 of each year and in some countries in begins in October 31\, which in Anglo-Saxon countries corresponds to the Halloween night. \nAll this mixture of different cultures creates a series of very interesting festivities at this time of year. The Mexican one is one of the most original\, so today it is considered Intangible Heritage of Humanity by UNESCO. \nThe culture of the dead comes from pre-Columbian cultures in Mexico\, especially the Aztec\, and gradually began to assume a varied culture that includes music\, literature\, fine arts\, gastronomy and above all a peculiar imagery whose skulls are the main icon. \nWith this event\, you can get to know a little bit of that Mexican tradition and its culture\, visiting a series of colorful altars in places of great tourist interest. \nA way to get to know the celebration of the Mexican people’s “cult of death” in an entertaining and instructive way. In addition to learning\, it is a way to make us reflect on the meaning of our existences and to enjoy with passion every second of our lives. \nIn this frighten week we will also have a walk through the Madrid de los Fantasmas. If you want to learn more about All Saints’ Day festivities\, Halloween and the Day of the Dead in Madrid\, read this article “Halloween in Spain: an American celebration?“. \nMeeting Point: C\ Alberto Aguilera\, 20 (CASA MÉXICO) at 15:30h\n[/vc_column_text][/vc_column][/vc_row]
URL:https://old.tandemmadrid.com/event/route-altars-madrid/
LOCATION:C/ Alberto aguilera\, 20. Metro San bernardo o Argüelles\, C / ALBERTO AGUILERA \, 20\, Madrid\, Madrid\, Spain
CATEGORIES:Art Exhibitions,City Sightseeing,TANDEM Cultural program
ATTACH;FMTTYPE=image/jpeg:https://old.tandemmadrid.com/tandem/wp-content/uploads/2017/10/route-altars-madrid.jpg
END:VEVENT
BEGIN:VEVENT
DTSTART;TZID=Europe/Madrid:20231026T131500
DTEND;TZID=Europe/Madrid:20231026T150000
DTSTAMP:20260421T054524
CREATED:20231019T111305Z
LAST-MODIFIED:20231019T111306Z
UID:5793-1698326100-1698332400@old.tandemmadrid.com
SUMMARY:Cine Forum: La lengua de las mariposas
DESCRIPTION:[vc_row][vc_column][vc_column_text] \nFor Moncho\, it’s an idyllic year: he starts school\, he has a wonderful teacher\, he makes a friend in Roque\, he begins to figure out some of the mysteries of Eros\, and\, with his older brother\, a budding saxophone player\, he makes a trip with the band from their town in Galicia. But it’s also the year that the Spanish Republic comes under fire from Fascist rebels. Moncho’s father is a Republican as is the aging teacher\, Don Gregorio. As sides are drawn and power falls clearly to one side\, the forces of fear\, violence\, and betrayal alter profoundly what should be the pleasure of coming of age. \n[/vc_column_text][/vc_column][/vc_row][vc_row][vc_column][vc_column_text] \nMeeting point: TANDEM at 13:15h\n[/vc_column_text][/vc_column][/vc_row]
URL:https://old.tandemmadrid.com/event/cine-forum-lengua-mariposas/
CATEGORIES:Cinema,TANDEM Cultural program
ATTACH;FMTTYPE=image/jpeg:https://old.tandemmadrid.com/tandem/wp-content/uploads/2023/08/palomitas.jpg
END:VEVENT
BEGIN:VEVENT
DTSTART;TZID=Europe/Madrid:20231031T184500
DTEND;TZID=Europe/Madrid:20231031T200000
DTSTAMP:20260421T054524
CREATED:20231027T083630Z
LAST-MODIFIED:20231027T083843Z
UID:5795-1698777900-1698782400@old.tandemmadrid.com
SUMMARY:Cine Forum: MI OTRO JON
DESCRIPTION:[vc_row][vc_column][vc_column_text]\nMerche (Carmen Maura) receives the bad news that she has little time left to live. She decides to fulfill the impossible dreams of her three best friends (Marisol Ayuso\, María José Alfonso and María Luisa Merlo). Finally\, she also wants to fulfill hers: to see the sea for the last time by visiting the island of La Palma. His delicate health situation prevents him from traveling\, but a brilliant scientist (Aitana Sánchez-Gijón) offers him a solution. She will introduce Merche’s soul into the body of a recently deceased person for three days\, so that she can fulfill her dream. That body is that of Jon (Fernando Albizu)\, a big Basque truck driver. So Merche will “enjoy” her last days with her daughter (Olivia Molina) on the Canary Island. \n[/vc_column_text][/vc_column][/vc_row][vc_row][vc_column][vc_column_text] \nMeeting point: Gran Via\, 41 (cinema entrance) at 18:45h\n[/vc_column_text][/vc_column][/vc_row]
URL:https://old.tandemmadrid.com/event/cine-forum-mi-otro-jon/
CATEGORIES:Cinema
ATTACH;FMTTYPE=image/jpeg:https://old.tandemmadrid.com/tandem/wp-content/uploads/2023/08/palomitas.jpg
END:VEVENT
END:VCALENDAR