BEGIN:VCALENDAR
VERSION:2.0
PRODID:-//Learn Spanish in Madrid, Spain: TANDEM Madrid Spanish Courses. - ECPv5.3.1.1//NONSGML v1.0//EN
CALSCALE:GREGORIAN
METHOD:PUBLISH
X-WR-CALNAME:Learn Spanish in Madrid, Spain: TANDEM Madrid Spanish Courses.
X-ORIGINAL-URL:https://old.tandemmadrid.com
X-WR-CALDESC:Events for Learn Spanish in Madrid, Spain: TANDEM Madrid Spanish Courses.
BEGIN:VTIMEZONE
TZID:Europe/Madrid
BEGIN:DAYLIGHT
TZOFFSETFROM:+0100
TZOFFSETTO:+0200
TZNAME:CEST
DTSTART:20230326T010000
END:DAYLIGHT
BEGIN:STANDARD
TZOFFSETFROM:+0200
TZOFFSETTO:+0100
TZNAME:CET
DTSTART:20231029T010000
END:STANDARD
END:VTIMEZONE
BEGIN:VEVENT
DTSTART;TZID=Europe/Madrid:20230829T173000
DTEND;TZID=Europe/Madrid:20230829T190000
DTSTAMP:20260421T072452
CREATED:20230825T151417Z
LAST-MODIFIED:20230825T151752Z
UID:5778-1693330200-1693335600@old.tandemmadrid.com
SUMMARY:Cine Forum: La comunidad
DESCRIPTION:[vc_row][vc_column][vc_column_text] \nJulia finds 300 million pesetas hidden in a dead man’s house while selling an apartment. She’s a 40-ish real estate agent now forced to face the wrath of a very peculiar community (of neighbors)\, headed by an unscrupulous administrator. Black humor gives way to suspense\, closely followed by horror that doesn’t take long in coming to a head in undisguised pandemonium. \n[/vc_column_text][/vc_column][/vc_row][vc_row][vc_column][vc_column_text] \nMeeting point: TANDEM at 17:30h\n[/vc_column_text][/vc_column][/vc_row]
URL:https://old.tandemmadrid.com/event/cine-forum-la-comunidad/
CATEGORIES:Cinema
ATTACH;FMTTYPE=image/jpeg:https://old.tandemmadrid.com/tandem/wp-content/uploads/2023/08/palomitas.jpg
END:VEVENT
BEGIN:VEVENT
DTSTART;TZID=Europe/Madrid:20230914T131500
DTEND;TZID=Europe/Madrid:20230914T160000
DTSTAMP:20260421T072452
CREATED:20230908T140441Z
LAST-MODIFIED:20230908T142921Z
UID:5781-1694697300-1694707200@old.tandemmadrid.com
SUMMARY:Cine Forum: "LA NOVIA" drama based on "Bodas de sangre" by Federico García Lorca
DESCRIPTION:[vc_row][vc_column][vc_column_text]\nBased on “Bodas de sangre” by Federico García Lorca\, tells the story of a love triangle between two men and a woman. Two lovers carried away by their passion defying all moral and social rules even challenging their own judgment. The same day of her wedding\, the bride and her lover escape on horseback to live their love. Their disobedience will have devastating consequences. \n[/vc_column_text][/vc_column][/vc_row][vc_row][vc_column][vc_column_text] \nMeeting point: TANDEM at 13:15h\n[/vc_column_text][/vc_column][/vc_row] \nPhoto on Flickr by Canal Sur Media
URL:https://old.tandemmadrid.com/event/cine-forum-novia/
CATEGORIES:Cinema,TANDEM Cultural program
ATTACH;FMTTYPE=image/jpeg:https://old.tandemmadrid.com/tandem/wp-content/uploads/2023/09/inma-cuesta.jpg
END:VEVENT
BEGIN:VEVENT
DTSTART;TZID=Europe/Madrid:20230920T160000
DTEND;TZID=Europe/Madrid:20230920T180000
DTSTAMP:20260421T072452
CREATED:20160604T143050Z
LAST-MODIFIED:20230915T085519Z
UID:2726-1695225600-1695232800@old.tandemmadrid.com
SUMMARY:TANDEM Cultural Program: Guided visit to the Royal Palace of Madrid
DESCRIPTION:[vc_row][vc_column][vc_column_text] \nThe Royal Palace of Madrid is the official residence of the kings of Spain\, although current kings do not live in it\, but in the Palacio de la Zarzuela. It is currently used for state ceremonies and solemn acts\, besides being one of the most visited tourist attractions in the city. \nWith an area of 135 000 m² and 3418 rooms\, it is the largest royal palace in Western Europe\, whose surface is almost twice as Buckingham Palace or the Palace of Versailles. The Palace has a large artistic and historical heritage\, especially painting\, sculpture and tapestry\, plus musical instruments\, which can be visited whenever there are no official events. Nearby there are several other tourist attractions such as Almudena Cathedral\, the Royal Theatre\, Sabatini Gardens and Plaza de Oriente. \nPreviously the Palace was a\, “alcázar”\, a fortress from the time of the Arab occupation\, and received several reforms between the fourteenth and eighteenth centuries\, until it became the building we know today. \nThe Royal Palace of Madrid is one of the most important a monuments for anyone interested in knowing a little more about the history and culture of Spain\, and offers the possibility to feel for a moment all the splendor as an empire that our country had in the past. \nMeeting point: At 4:00 p.m at TANDEM Madrid.\n[/vc_column_text][/vc_column][/vc_row]
URL:https://old.tandemmadrid.com/event/royal-palace-madrid/
LOCATION:Madrid Royal Palace\, Calle de Bailén\, s/n\, Madrid\, 28013\, Spain
CATEGORIES:City Sightseeing,Cultural clases,TANDEM Cultural program
ATTACH;FMTTYPE=image/jpeg:https://old.tandemmadrid.com/tandem/wp-content/uploads/2015/05/madrid-royal-palaace.jpg
ORGANIZER;CN="TANDEM%20Madrid":MAILTO:spanishcourses@tandem-madrid.com, 
END:VEVENT
BEGIN:VEVENT
DTSTART;TZID=Europe/Madrid:20230920T200000
DTEND;TZID=Europe/Madrid:20230920T220000
DTSTAMP:20260421T072452
CREATED:20160709T150832Z
LAST-MODIFIED:20231002T085221Z
UID:2804-1695240000-1695247200@old.tandemmadrid.com
SUMMARY:TANDEM Cultural Program: Cool Neighborhoods tour\, Malasaña and  micro theater
DESCRIPTION:[vc_row][vc_column][vc_column_text]\nWe celebrate the day of the Community of Madrid (May 2) with a walk through the neighborhood of Malasaña.  \nThe neighborhood where the rebellion against the French invader began… \nDo you want to know one of the trendiest neighborhoods in Madrid? If so\, you are in the right place\, as we will go for a walk around Malasaña one of the most famous and emblematic neighborhoods of Madrid. A picturesque and multicultural area that you certainly can not miss. Malasaña is a very popular neighborhood in Madrid. \nMalasaña is known as a great core of alternative culture and urban art and with a nightlife of the most agitated of the capital. It is also an important shopping area\, with fashion trends also alternative\, with which several “urban tribes” are identified. So\, what are you waiting for to sign up for this great plan? \nMeeting point: Callao subway entrance at 8:00. pm\n[/vc_column_text][/vc_column][/vc_row]
URL:https://old.tandemmadrid.com/event/malasana-tour/
LOCATION:Malasaña District\, Plaza Juan Pujol\, 1\, Madrid\, 28004\, Spain
CATEGORIES:City Sightseeing,Going out,TANDEM Cultural program
ATTACH;FMTTYPE=image/jpeg:https://old.tandemmadrid.com/tandem/wp-content/uploads/2015/05/malasana-madrid.jpg
ORGANIZER;CN="TANDEM%20Madrid":MAILTO:spanishcourses@tandem-madrid.com, 
END:VEVENT
BEGIN:VEVENT
DTSTART;TZID=Europe/Madrid:20230921T170000
DTEND;TZID=Europe/Madrid:20230921T190000
DTSTAMP:20260421T072452
CREATED:20221013T162510Z
LAST-MODIFIED:20230915T085645Z
UID:5591-1695315600-1695322800@old.tandemmadrid.com
SUMMARY:Visit to the galleries of Doctor Fourquet street and stroll through the Lavapiés district.
DESCRIPTION:Doctor Fourquet Street\, located in the traditional neighborhood of Lavapies and a few meters from the Reina Sofia Museum of Art\, is considered the most important street of art in Spain\, containing about fifteen galleries in just 600m.  \nWe will visit the most popular ones and enjoy a pleasant stroll through one of the most artistic and iconic neighborhoods in Madrid. \nMeeting point: Metro Lavapies at 05.00 P.M. \nPicture by Fred Romero\, Wikipedia
URL:https://old.tandemmadrid.com/event/visit-galleries-lavapies/
CATEGORIES:Art Exhibitions
ATTACH;FMTTYPE=image/jpeg:https://old.tandemmadrid.com/tandem/wp-content/uploads/2022/10/madrid-lavapies.jpg
END:VEVENT
BEGIN:VEVENT
DTSTART;TZID=Europe/Madrid:20230928T180000
DTEND;TZID=Europe/Madrid:20230928T200000
DTSTAMP:20260421T072452
CREATED:20230922T084125Z
LAST-MODIFIED:20230922T084831Z
UID:5787-1695924000-1695931200@old.tandemmadrid.com
SUMMARY:Walk & fake news: The lie factory!
DESCRIPTION:What are they really and how do they spread? What tools do we have to make them? How can we detect and combat them? \nAn exhibition that addresses the phenomenon of fake news over the centuries and poses a reflection on the impact they generate in our society. \nMeeting point: TANDEM Madrid\, at 6:00 P.M. \n(optional event)
URL:https://old.tandemmadrid.com/event/walk-fake-news/
CATEGORIES:TANDEM Cultural program
ATTACH;FMTTYPE=image/jpeg:https://old.tandemmadrid.com/tandem/wp-content/uploads/2015/12/cafe-y-noticias.jpg
END:VEVENT
END:VCALENDAR