BEGIN:VCALENDAR
VERSION:2.0
PRODID:-//Learn Spanish in Madrid, Spain: TANDEM Madrid Spanish Courses. - ECPv5.3.1.1//NONSGML v1.0//EN
CALSCALE:GREGORIAN
METHOD:PUBLISH
X-WR-CALNAME:Learn Spanish in Madrid, Spain: TANDEM Madrid Spanish Courses.
X-ORIGINAL-URL:https://old.tandemmadrid.com
X-WR-CALDESC:Events for Learn Spanish in Madrid, Spain: TANDEM Madrid Spanish Courses.
BEGIN:VTIMEZONE
TZID:Europe/Madrid
BEGIN:DAYLIGHT
TZOFFSETFROM:+0100
TZOFFSETTO:+0200
TZNAME:CEST
DTSTART:20230326T010000
END:DAYLIGHT
BEGIN:STANDARD
TZOFFSETFROM:+0200
TZOFFSETTO:+0100
TZNAME:CET
DTSTART:20231029T010000
END:STANDARD
END:VTIMEZONE
BEGIN:VEVENT
DTSTART;TZID=Europe/Madrid:20230531T131500
DTEND;TZID=Europe/Madrid:20230531T153000
DTSTAMP:20260421T120427
CREATED:20230123T095142Z
LAST-MODIFIED:20230526T140937Z
UID:5680-1685538900-1685547000@old.tandemmadrid.com
SUMMARY:TANDEM Cultural Program: Real Academia de Bellas Artes de San Fernando
DESCRIPTION:The Royal Academy of Fine Arts of San Fernando was inaugurated in 1752 with the aim of fostering artistic creativity\, as well as the study of art.\nwith the aim of promoting artistic creativity\, as well as the study\, dissemination and protection of the arts in Spain\, particularly painting\, sculpture\, architecture and music. \nIts impressive art collections\, which in this visit this visit we will be able to contemplate\, span more than four centuries of history\, with works by such famous painters as El Greco\, Velazquez\, Goya\, Sorolla\, Picasso or Juan Gris. \nBecause of the relevance of his works\, this Academy is considered the second most important second most important art gallery in Madrid\, after the Prado Museum. \nThe splendid building that houses it deserves special importance\, built in 1773 and remodeled over the over the centuries. \n[vc_row][vc_column][vc_column_text]Meeting Point: TANDEM Madrid at 1:15 pm[/vc_column_text][/vc_column][/vc_row][vc_row][vc_column][vc_column_text] \nImage credit: Carlos Delgado\, on Wikimedia \n[/vc_column_text][/vc_column][/vc_row]
URL:https://old.tandemmadrid.com/event/real-academia-de-bellas-artes-de-san-fernando/
CATEGORIES:Art Exhibitions,Cultural Exhibitions,TANDEM Cultural program
ATTACH;FMTTYPE=image/jpeg:https://old.tandemmadrid.com/tandem/wp-content/uploads/2023/01/Real_Academia_de_Bellas_Artes_de_San_Fernando.jpg
END:VEVENT
BEGIN:VEVENT
DTSTART;TZID=Europe/Madrid:20230601T184500
DTEND;TZID=Europe/Madrid:20230601T200000
DTSTAMP:20260421T120427
CREATED:20230526T142321Z
LAST-MODIFIED:20230526T142321Z
UID:5752-1685645100-1685649600@old.tandemmadrid.com
SUMMARY:Premiere of a short film by Pedro Almodóvar in the Ideal cinema and colloquium
DESCRIPTION:[vc_row][vc_column][vc_column_text]\nAcclaimed film director Pedro Almodovar releases his latest long-awaited short film\, starring Ethan Hawke and Pedro Pascal.\nIn the director’s own words\, the plot alludes to a famous fadocule whose lyrics suggest that “there is no stranger existence than one that is lived with your back to your own desires”.  \nPedro Almodovar is the Spanish film director with the most worldwide reach. His films are known for their unique storytelling style and aesthetics\, which blend Spanish popular culture with the latest avant-garde trends.\n[/vc_column_text][/vc_column][/vc_row][vc_row][vc_column][vc_column_text] \nMeeting point: Entrance of the cinema “Yelmo IDEAL” in C\ Dr. Cortezo\,6 at 18:45h\n[/vc_column_text][/vc_column][/vc_row]
URL:https://old.tandemmadrid.com/event/short-film-almodovar-ideal/
CATEGORIES:Cinema
ATTACH;FMTTYPE=image/jpeg:https://old.tandemmadrid.com/tandem/wp-content/uploads/2017/07/almodovar-cine.jpg
END:VEVENT
BEGIN:VEVENT
DTSTART;TZID=Europe/Madrid:20230606T153000
DTEND;TZID=Europe/Madrid:20230606T183000
DTSTAMP:20260421T120427
CREATED:20190506T121606Z
LAST-MODIFIED:20230605T084236Z
UID:4539-1686065400-1686076200@old.tandemmadrid.com
SUMMARY:TANDEM Cultural Program: Dicovering the Botanical Garden
DESCRIPTION:[vc_row][vc_column][vc_column_text] \nThe Real Jardín Botánico (Royal Botanical Garden) is an oasis at the very heart of Madrid\, located in front of the Museo del Prado. With 9 hectares\, the Botanical Garden is a fresh and green peaceful universe\, perfect for nature lovers. Its origin traces back more than two centuries and has a unique collection of bonsais and different species\, which makes visiting this place a pleasure for all the senses\, especially for the sight and smell. \nIt is a research center that was founded on October 17\, 1755\, by King Ferdinand VI. It was originally located in the Soto de Migas but was moved to Paseo del Prado in 1781. In addition\, you can see all kinds of plants as this garden has plants from American and Pacific countries as well as any area of Europe in its three terraces staggered. \nMeeting point: TANDEM Madrid at 3.30 P.M. \n\n[/vc_column_text][/vc_column][/vc_row]
URL:https://old.tandemmadrid.com/event/botanical-garden/
LOCATION:Real Jardín Botánico Alfonso XIII – UCM\, Avenida Complutense\, s/n\, Madrid\, 28040\, Spain
CATEGORIES:City Sightseeing,Cultural clases,Going out,TANDEM Cultural program
ATTACH;FMTTYPE=image/jpeg:https://old.tandemmadrid.com/tandem/wp-content/uploads/2019/05/jardin-botanico-madrid.jpg
ORGANIZER;CN="TANDEM%20Madrid":MAILTO:spanishcourses@tandem-madrid.com, 
END:VEVENT
BEGIN:VEVENT
DTSTART;TZID=Europe/Madrid:20230608T170000
DTEND;TZID=Europe/Madrid:20230608T193000
DTSTAMP:20260421T120427
CREATED:20230605T085803Z
LAST-MODIFIED:20230605T085803Z
UID:5755-1686243600-1686252600@old.tandemmadrid.com
SUMMARY:A walk through thrift stores and urban gardens
DESCRIPTION:We all participate for a better world.\nIn this activity you will discover\, from the hand of professionals\, new ways of consuming. \nMeeting point: Lavapiés subway\, at 5:00 P.M.
URL:https://old.tandemmadrid.com/event/thrift-stores-urban-gardens-lavapies/
ATTACH;FMTTYPE=image/jpeg:https://old.tandemmadrid.com/tandem/wp-content/uploads/2015/10/lavapies.jpg
END:VEVENT
BEGIN:VEVENT
DTSTART;TZID=Europe/Madrid:20230613T180000
DTEND;TZID=Europe/Madrid:20230629T203000
DTSTAMP:20260421T120427
CREATED:20160528T160632Z
LAST-MODIFIED:20230608T100956Z
UID:2695-1686679200-1688070600@old.tandemmadrid.com
SUMMARY:Madrid Book Fair\, El Retiro park
DESCRIPTION:[vc_row][vc_column][vc_column_text] \nThis year the Madrid Book Fair celebrates its 78th edition\, achieving success year after year. And like every year\, we expect a large influx of people seeking the latest best sellers and various works to satisfy their hunger for reading. It is also a meeting point for authors with their readers\, and they organize various sections of signatures so readers can go home with an autograph from their favorite author. \nThis event began in 1933 as part of the celebration of the “Semana Cervantina” (Week of Cervantes)\, and was interrupted in the period of war (WWII and Spanish Civil War). Since 1944 it has been held without interruptions. It has been moved\, as before it was in the Paseo de Recoletos\, formerly under the name of National Book Fair. Currently it is held in the park El Retiro under the name Madrid Book Fair. \nThe edition will have more than 300 stands and 400 exhibitors. The guest country for this edition is Dominican Republic. Besides books and author signatures\, there are several activities for adults and children as awards\, workshops in drawing\, painting and crafts\, and their number as storytellers for all ages. \nThe Madrid Book Fair is an event of the most interesting for avid readers and for all the general public\, which allows us to enjoy one of the most important modes of transmission and assimilation of culture. All of this in one of the most pleasant places of Madrid\, in the midst of nature in the park El Retiro. \nMeeting point: At the beginnig of the Moyano Cost\, at 6:00PM\n[/vc_column_text][/vc_column][/vc_row]
URL:https://old.tandemmadrid.com/event/madrid-book-fair/
LOCATION:El Retiro park\, Plaza de la Independencia\, 7\, Madrid\, 28001\, Spain
CATEGORIES:Cultural Exhibitions
ATTACH;FMTTYPE=image/jpeg:https://old.tandemmadrid.com/tandem/wp-content/uploads/2015/05/feria-del-libro-madrid-2016.jpg
ORGANIZER;CN="FLM%2C%20Feria%20del%20Libro%20de%20Madrid":MAILTO:info@ferialibromadrid.com
END:VEVENT
BEGIN:VEVENT
DTSTART;TZID=Europe/Madrid:20230628T133000
DTEND;TZID=Europe/Madrid:20230628T160000
DTSTAMP:20260421T120427
CREATED:20170604T170812Z
LAST-MODIFIED:20230622T153108Z
UID:3356-1687959000-1687968000@old.tandemmadrid.com
SUMMARY:Dishes of the world
DESCRIPTION:We’ll meet at the schoolyard to share the flavors of our cultures. Each participant brings a typical dish of his/ her country and we organize a small culinary party in which we can learn a little more about the countries of our fellow students and teachers. \nWith this event we will learn by enjoying and practicing Spanish. \nMeeting point: TANDEM Madrid at 13:30h
URL:https://old.tandemmadrid.com/event/dishes-of-the-world/
LOCATION:Cines Renoir Princesa\, Calle Marques de cubas\, 8\, Madrid\, 28014\, Spain
CATEGORIES:TANDEM Cultural program
ATTACH;FMTTYPE=image/jpeg:https://old.tandemmadrid.com/tandem/wp-content/uploads/2017/06/comidas-del-mundo-scaled.jpg
ORGANIZER;CN="TANDEM%20Madrid":MAILTO:spanishcourses@tandem-madrid.com, 
END:VEVENT
END:VCALENDAR