BEGIN:VCALENDAR
VERSION:2.0
PRODID:-//Learn Spanish in Madrid, Spain: TANDEM Madrid Spanish Courses. - ECPv5.3.1.1//NONSGML v1.0//EN
CALSCALE:GREGORIAN
METHOD:PUBLISH
X-WR-CALNAME:Learn Spanish in Madrid, Spain: TANDEM Madrid Spanish Courses.
X-ORIGINAL-URL:https://old.tandemmadrid.com
X-WR-CALDESC:Events for Learn Spanish in Madrid, Spain: TANDEM Madrid Spanish Courses.
BEGIN:VTIMEZONE
TZID:Europe/Madrid
BEGIN:DAYLIGHT
TZOFFSETFROM:+0100
TZOFFSETTO:+0200
TZNAME:CEST
DTSTART:20230326T010000
END:DAYLIGHT
BEGIN:STANDARD
TZOFFSETFROM:+0200
TZOFFSETTO:+0100
TZNAME:CET
DTSTART:20231029T010000
END:STANDARD
END:VTIMEZONE
BEGIN:VEVENT
DTSTART;TZID=Europe/Madrid:20230515T120000
DTEND;TZID=Europe/Madrid:20230515T170000
DTSTAMP:20260421T133046
CREATED:20190513T094249Z
LAST-MODIFIED:20230512T105609Z
UID:4570-1684152000-1684170000@old.tandemmadrid.com
SUMMARY:TANDEM Cultural Program: Let's go to the Pradera de San Isidro!
DESCRIPTION:[vc_row][vc_column][vc_column_text] \n San Isidro Festivities in Madrid. Let’s go to the Pradera de San Isidro! \nOn May 15 is celebrated the feast of the patron saint of Madrid San Isidro labrador\, with hundreds of activities and events that you can not miss. \nOn Monday we will go to the meadow of San Isidro\, epicenter of the festival\, to live and enjoy this special tradition: \nWe will attend the distribution of carnations\, the dance and vermouth\, we will eat “cocido”\, we will participate in the traditional dance: the “chotis” and we will live many more surprises that you can not miss. \nDo you wan to join us? \nMeeting point: Subway entrance MARQUES DE VADILLO at 12:00h\n[/vc_column_text][/vc_column][/vc_row]
URL:https://old.tandemmadrid.com/event/pradera-san-isidro/
LOCATION:san isidro park\, Paseo de la Ermita del Santo\, 74\, Madrid\, 28019\, Spain
CATEGORIES:City Sightseeing,Cultural clases,Excursions,Going out,Music,Popular Festivals,TANDEM Cultural program
ATTACH;FMTTYPE=image/jpeg:https://old.tandemmadrid.com/tandem/wp-content/uploads/2019/05/pradera-san-isidro-goya.jpg
ORGANIZER;CN="TANDEM%20Madrid":MAILTO:spanishcourses@tandem-madrid.com, 
END:VEVENT
BEGIN:VEVENT
DTSTART;TZID=Europe/Madrid:20230518T191500
DTEND;TZID=Europe/Madrid:20230518T220000
DTSTAMP:20260421T133046
CREATED:20230512T111209Z
LAST-MODIFIED:20230512T112052Z
UID:5746-1684437300-1684447200@old.tandemmadrid.com
SUMMARY:Cinema at Equis: Breakfast at Tiffany's
DESCRIPTION:[vc_row][vc_column][vc_column_text] \nCinema at Equis: Breakfast at Tiffany’s \nThe Equis Cinema is one of the most special leisure in Madrid. You can’t miss it: a cinema with a lot of history\, which at the same time is cafeteria and cocktail bar. \nThere is no better occasion to to get to know it than watching this glamorous classic: “Breakfast at Tiffany’s”\, a perfect comedy\, an unusual love story. \nAfter enjoying the film\, we will have a drink at the bar of the cinema\, while we have a pleasant conversation. \nRegistration at the secretariat. Price 9€ \nMeeting point: c/del Duque de Alba\, 4 at 19:15 P.M.\n[/vc_column_text][/vc_column][/vc_row]
URL:https://old.tandemmadrid.com/event/cinema-equis/
CATEGORIES:Cinema
ATTACH;FMTTYPE=image/jpeg:https://old.tandemmadrid.com/tandem/wp-content/uploads/2023/05/desayuno-con-diamantes.jpg
END:VEVENT
BEGIN:VEVENT
DTSTART;TZID=Europe/Madrid:20230531T131500
DTEND;TZID=Europe/Madrid:20230531T153000
DTSTAMP:20260421T133046
CREATED:20230123T095142Z
LAST-MODIFIED:20230526T140937Z
UID:5680-1685538900-1685547000@old.tandemmadrid.com
SUMMARY:TANDEM Cultural Program: Real Academia de Bellas Artes de San Fernando
DESCRIPTION:The Royal Academy of Fine Arts of San Fernando was inaugurated in 1752 with the aim of fostering artistic creativity\, as well as the study of art.\nwith the aim of promoting artistic creativity\, as well as the study\, dissemination and protection of the arts in Spain\, particularly painting\, sculpture\, architecture and music. \nIts impressive art collections\, which in this visit this visit we will be able to contemplate\, span more than four centuries of history\, with works by such famous painters as El Greco\, Velazquez\, Goya\, Sorolla\, Picasso or Juan Gris. \nBecause of the relevance of his works\, this Academy is considered the second most important second most important art gallery in Madrid\, after the Prado Museum. \nThe splendid building that houses it deserves special importance\, built in 1773 and remodeled over the over the centuries. \n[vc_row][vc_column][vc_column_text]Meeting Point: TANDEM Madrid at 1:15 pm[/vc_column_text][/vc_column][/vc_row][vc_row][vc_column][vc_column_text] \nImage credit: Carlos Delgado\, on Wikimedia \n[/vc_column_text][/vc_column][/vc_row]
URL:https://old.tandemmadrid.com/event/real-academia-de-bellas-artes-de-san-fernando/
CATEGORIES:Art Exhibitions,Cultural Exhibitions,TANDEM Cultural program
ATTACH;FMTTYPE=image/jpeg:https://old.tandemmadrid.com/tandem/wp-content/uploads/2023/01/Real_Academia_de_Bellas_Artes_de_San_Fernando.jpg
END:VEVENT
BEGIN:VEVENT
DTSTART;TZID=Europe/Madrid:20230601T184500
DTEND;TZID=Europe/Madrid:20230601T200000
DTSTAMP:20260421T133046
CREATED:20230526T142321Z
LAST-MODIFIED:20230526T142321Z
UID:5752-1685645100-1685649600@old.tandemmadrid.com
SUMMARY:Premiere of a short film by Pedro Almodóvar in the Ideal cinema and colloquium
DESCRIPTION:[vc_row][vc_column][vc_column_text]\nAcclaimed film director Pedro Almodovar releases his latest long-awaited short film\, starring Ethan Hawke and Pedro Pascal.\nIn the director’s own words\, the plot alludes to a famous fadocule whose lyrics suggest that “there is no stranger existence than one that is lived with your back to your own desires”.  \nPedro Almodovar is the Spanish film director with the most worldwide reach. His films are known for their unique storytelling style and aesthetics\, which blend Spanish popular culture with the latest avant-garde trends.\n[/vc_column_text][/vc_column][/vc_row][vc_row][vc_column][vc_column_text] \nMeeting point: Entrance of the cinema “Yelmo IDEAL” in C\ Dr. Cortezo\,6 at 18:45h\n[/vc_column_text][/vc_column][/vc_row]
URL:https://old.tandemmadrid.com/event/short-film-almodovar-ideal/
CATEGORIES:Cinema
ATTACH;FMTTYPE=image/jpeg:https://old.tandemmadrid.com/tandem/wp-content/uploads/2017/07/almodovar-cine.jpg
END:VEVENT
END:VCALENDAR