BEGIN:VCALENDAR
VERSION:2.0
PRODID:-//Learn Spanish in Madrid, Spain: TANDEM Madrid Spanish Courses. - ECPv5.3.1.1//NONSGML v1.0//EN
CALSCALE:GREGORIAN
METHOD:PUBLISH
X-WR-CALNAME:Learn Spanish in Madrid, Spain: TANDEM Madrid Spanish Courses.
X-ORIGINAL-URL:https://old.tandemmadrid.com
X-WR-CALDESC:Events for Learn Spanish in Madrid, Spain: TANDEM Madrid Spanish Courses.
BEGIN:VTIMEZONE
TZID:Europe/Madrid
BEGIN:DAYLIGHT
TZOFFSETFROM:+0100
TZOFFSETTO:+0200
TZNAME:CEST
DTSTART:20230326T010000
END:DAYLIGHT
BEGIN:STANDARD
TZOFFSETFROM:+0200
TZOFFSETTO:+0100
TZNAME:CET
DTSTART:20231029T010000
END:STANDARD
END:VTIMEZONE
BEGIN:VEVENT
DTSTART;TZID=Europe/Madrid:20230329T131500
DTEND;TZID=Europe/Madrid:20230329T160000
DTSTAMP:20260421T151300
CREATED:20211001T100440Z
LAST-MODIFIED:20230327T085407Z
UID:5438-1680095700-1680105600@old.tandemmadrid.com
SUMMARY:TANDEM Cultural Program: Museum of Romanticism
DESCRIPTION:[vc_row][vc_column][vc_column_text] \nFancy an afternoon at the museum? TANDEM Madrid takes you to a more unknown museum in Madrid\, but certainly one of the most interesting museums you can find in the city. The Museum of Romanticism is located in the former palace of the Marquis of Matallana\, was built in 1776\, and in it\, you can see a very interesting collection that collects besides paintings\, furniture\, and decorative arts\, the daily life of the high bourgeoisie during one of the golden periods of Spanish art\, Romanticism. The Museum of Romanticism is located in the old palace of the Marquis of Matallana\, built-in 1776. \nWithin this museum you will find artists of the stature of Goya\, Esquivel\, Madrazo\, Alenza and the Bécquer brothers. You will be able to find jewelry and collections of porcelain dolls\, pianos and furniture of great beauty. You can also see the pistol with which Larra committed suicide. Undoubtedly a museum that perfectly recreates the atmosphere\, so you can feel that you are in the middle of the century of Romanticism. Do not hesitate and come with us to spend the afternoon. \nMeeting point: At 1:15 pm at TANDEM Madrid. Price admission: 3€.\n[/vc_column_text][/vc_column][/vc_row]
URL:https://old.tandemmadrid.com/event/museum-of-romanticism/
CATEGORIES:Art Exhibitions,TANDEM Cultural program
ATTACH;FMTTYPE=image/jpeg:https://old.tandemmadrid.com/tandem/wp-content/uploads/2021/10/romanticism-museum-madrid-scaled.jpg
END:VEVENT
BEGIN:VEVENT
DTSTART;TZID=Europe/Madrid:20230405T184500
DTEND;TZID=Europe/Madrid:20230405T220000
DTSTAMP:20260421T151300
CREATED:20190415T084805Z
LAST-MODIFIED:20230403T084613Z
UID:4475-1680720300-1680732000@old.tandemmadrid.com
SUMMARY:Procession of the Cristo de la Salud (El Cristo de los Gitanos)
DESCRIPTION:[vc_row][vc_column][vc_column_text] \nIt is Holy Week and we are going to see the procession of the Cristo de la Salud\, also known as the Cristo de los Gitanos (The Christ of Health \, The Christ of the Gypsies). Do you want to join us? This procession runs through a large part of the Center. \nThe procession of “Los Gitanos”\, in which we will be able to contemplate the steps of “Nuestro Padre Jesús de la Salud” and the Virgin “María Santísima de las Angustias”\, is one of the most outstanding\, emotional and popular processions of the Holy Week in Madrid. \nIt will be a very special occasion to participate in the most traditional celebration in Spain\, and to feel the emotion that is transmitted in these moving acts.  \nWe will walk through several streets of Madrid\, following the itinerary of the floats that will go out in procession. \nMeeting point:\nAt  6:45 p.m. in TANDEM Madrid. \n[/vc_column_text][/vc_column][/vc_row]
URL:https://old.tandemmadrid.com/event/procesion-cristo-salud/
LOCATION:Gran Via Madrid\, Calle Gran Via\, 1\, Madrid\, 28013\, Spain
CATEGORIES:Popular Festivals
ATTACH;FMTTYPE=image/jpeg:https://old.tandemmadrid.com/tandem/wp-content/uploads/2019/04/Santuario_de_los_Gitanos.jpg
ORGANIZER;CN="http%3A%2F%2Fhermandadlosgitanosmadrid.es%2F":MAILTO:hermandad@hermandadlosgitanosmadrid.es
END:VEVENT
BEGIN:VEVENT
DTSTART;TZID=Europe/Madrid:20230410T163000
DTEND;TZID=Europe/Madrid:20230410T183000
DTSTAMP:20260421T151300
CREATED:20230410T085824Z
LAST-MODIFIED:20230410T091955Z
UID:5735-1681144200-1681151400@old.tandemmadrid.com
SUMMARY:Leonora Carrington exhibition in Mapfre foundation
DESCRIPTION:In this exhibition we will know the work of this singular artist\, who was a painter\, sculptor and writer. artist\, who was a painter\, sculptor and writer\, representative of the surrealist movement. \nHer work is the result of an extraordinary imagination\, creator of an aesthetic\, symbolic and symbolic and conceptual world\, in a continuous search for new search for new forms of expression. \nShe was a woman ahead of her time.\nConcerned about women’s rights and ecology. and ecology. She invented a language that evokes fascinating and magical worlds\, in which we will enter through her which we will enter through her works. \nMeeting point: TANDEM Madrid\, at 16:30 P.M.\nImage by Rosa G. on flickr
URL:https://old.tandemmadrid.com/event/leonora-carrington-exhibition/
CATEGORIES:Art Exhibitions,TANDEM Cultural program
ATTACH;FMTTYPE=image/jpeg:https://old.tandemmadrid.com/tandem/wp-content/uploads/2022/11/fundacion-mapfre-madrid.jpg
END:VEVENT
BEGIN:VEVENT
DTSTART;TZID=Europe/Madrid:20230412T140000
DTEND;TZID=Europe/Madrid:20230412T170000
DTSTAMP:20260421T151300
CREATED:20230410T091016Z
LAST-MODIFIED:20230410T091016Z
UID:5736-1681308000-1681318800@old.tandemmadrid.com
SUMMARY:Film and discussion with Cuca Escribano\, protagonist of the movie "Atlas of human geography".
DESCRIPTION:In this meeting\, we will have the unique opportunity to enjoy the viewing of this wonderful film\, based on a novel by the great writer\, Almudena Grandes\, with the presence of its protagonist\, Cuca Escribano\, a renowned Spanish actress in film\, theater and series\, whose work has been awarded multiple times\, both in Spain and Latin America.\nCuca Escribano\, a renowned Spanish actress of cinema\, theater and series\, whose work has been awarded on multiple occasions\, both in Spain and Latin America. \nMeeting point: TANDEM Madrid\, at 14:00 P.M.\nImage by Voces on flickr
URL:https://old.tandemmadrid.com/event/film-discussion-atlas-human-geography/
CATEGORIES:Cinema,TANDEM Cultural program
ATTACH;FMTTYPE=image/jpeg:https://old.tandemmadrid.com/tandem/wp-content/uploads/2023/04/cuca-escribano.jpg
END:VEVENT
BEGIN:VEVENT
DTSTART;VALUE=DATE:20230416
DTEND;VALUE=DATE:20230417
DTSTAMP:20260421T151300
CREATED:20230317T100858Z
LAST-MODIFIED:20230414T100052Z
UID:5728-1681603200-1681689599@old.tandemmadrid.com
SUMMARY:Play football in Madrid!
DESCRIPTION:We know that it is’nt easy to arrive and settle in a new city\, meet people\,practice sports\, organize a sport meeting… sometimes it can be complicated. \nSo that you don’t have to stop practicing your favorite sport while you find your place in the city\, we have created this project\, with the hope of a new beginning\, thinking about you. \nWe want to welcome and accompany young people like you\, who have come with the hope of learning a new language\, experiencing Mediterranean culture or making a dream come true\, to this great city that always welcomes you with open arms. \nWe organize sporting events to provide all medium and long-stay visitors with the possibility of having fun in a healthy and different way. No matter your level\, your origin\, your age… sport unites us all! \nIn an innovative “sports subscription” modality\, you will have everything you need to play 2 or 4 games a month of your favorite sport(s).\nWe take care of the management\, organization and reservation of the fields\, as well as providing you with the basic sports equipment and drinks.\nIn addition\, you won’t have to worry about anything\, we will keep you informed day by day of the evolution of the match\, the attendees\, the line-up and even the weather. \nOur goal is to share with our players and new friends the wonders of sport\, which\, together with an unique city like Madrid\, and its people\, will make you live an unforgettable experience.\nWe want to show and highlight the great cultural value of sport\, which has always been part of the Mediterranean character and culture. \n\n\nLast day for registration\nMatch Date\n\n\nMarch 24\nMarch 31\n\n\nMarch 28\nMarch 4\n\n\nMarch 30\nApril 6\n\n\nApril 5\nApril 10\n\n\nApril 7\nApril 12\n\n\nApril 9\nApril 14\n\n\nApril 11\nApril 16\n\n\nEnrollment information: Ask at the secretariat.
URL:https://old.tandemmadrid.com/event/play-football-madrid/
CATEGORIES:Sports
ATTACH;FMTTYPE=image/jpeg:https://old.tandemmadrid.com/tandem/wp-content/uploads/2021/05/lets-play-football.jpeg
END:VEVENT
BEGIN:VEVENT
DTSTART;TZID=Europe/Madrid:20230420T170000
DTEND;TZID=Europe/Madrid:20230420T203000
DTSTAMP:20260421T151300
CREATED:20211122T123633Z
LAST-MODIFIED:20230414T094821Z
UID:5481-1682010000-1682022600@old.tandemmadrid.com
SUMMARY:TANDEM Cultural Program: Tour and tapas in the Lavapies neighborhood
DESCRIPTION:Lavapiés is one of the most typical\, picturesque\, colorful and multicultural neighborhoods of Madrid.\nIt has a large number of bars\, restaurants and entertainment establishments of various types\, offering sensations from all continents of the world\, and a very lively nightlife.  \nThe interesting thing about this neighborhood is its own personality because there is such a fusion of cultures\, the neighborhood has a varied and picturesque aesthetic.\nIn this activity we will make a tour around the neighborhood\, making a stop to visit the peculiar “Mercado de San Fernando” and have a beer and a tapa in one of its bars. \nMeeting point: At the Lavapies subway entrance\, at 5.00. P.M. Food and beverage not included.
URL:https://old.tandemmadrid.com/event/tapas-lavapies/
CATEGORIES:Gastronomy,Going out,TANDEM Cultural program
ATTACH;FMTTYPE=image/jpeg:https://old.tandemmadrid.com/tandem/wp-content/uploads/2015/10/lavapies.jpg
END:VEVENT
BEGIN:VEVENT
DTSTART;TZID=Europe/Madrid:20230425T131500
DTEND;TZID=Europe/Madrid:20230425T160000
DTSTAMP:20260421T151300
CREATED:20230310T110522Z
LAST-MODIFIED:20230421T151021Z
UID:5708-1682428500-1682438400@old.tandemmadrid.com
SUMMARY:Visit to the exhibition of Juan Muñoz: "everything i see will outlive me"
DESCRIPTION:Juan Muñoz was one of the most important European artists of the second half of the second half of the 20th century.\nThis exhibition covers two decades of the sculptor’s career\, bringing together some of his most iconic pieces iconic pieces\, dated between the 1990s and 2001\, the year of his untimely death.   \nThe last decade of Juan Muñoz’s production\, which we will see in this exhibition exhibition\, was marked by the mastery of space space\, in a neo-baroque conception\, and neo-Baroque conception\, and by the recovery of the human figure as the central element of his work. \nMeeting point: TANDEM Madrid\, at 13:15 P.M.\nPhotograph by 	Neva Micheva\, on wikimedia
URL:https://old.tandemmadrid.com/event/exhibition-juan-munoz/
CATEGORIES:Art Exhibitions,TANDEM Cultural program
ATTACH;FMTTYPE=image/jpeg:https://old.tandemmadrid.com/tandem/wp-content/uploads/2023/03/ThirteenLaughing-juan-munoz.jpg
END:VEVENT
END:VCALENDAR