BEGIN:VCALENDAR
VERSION:2.0
PRODID:-//Learn Spanish in Madrid, Spain: TANDEM Madrid Spanish Courses. - ECPv5.3.1.1//NONSGML v1.0//EN
CALSCALE:GREGORIAN
METHOD:PUBLISH
X-WR-CALNAME:Learn Spanish in Madrid, Spain: TANDEM Madrid Spanish Courses.
X-ORIGINAL-URL:https://old.tandemmadrid.com
X-WR-CALDESC:Events for Learn Spanish in Madrid, Spain: TANDEM Madrid Spanish Courses.
BEGIN:VTIMEZONE
TZID:Europe/Madrid
BEGIN:DAYLIGHT
TZOFFSETFROM:+0100
TZOFFSETTO:+0200
TZNAME:CEST
DTSTART:20170326T010000
END:DAYLIGHT
BEGIN:STANDARD
TZOFFSETFROM:+0200
TZOFFSETTO:+0100
TZNAME:CET
DTSTART:20171029T010000
END:STANDARD
END:VTIMEZONE
BEGIN:VEVENT
DTSTART;TZID=Europe/Madrid:20170712T160000
DTEND;TZID=Europe/Madrid:20170712T173000
DTSTAMP:20260421T103456
CREATED:20170708T113319Z
LAST-MODIFIED:20170708T114825Z
UID:3390-1499875200-1499880600@old.tandemmadrid.com
SUMMARY:The Mystery of Don Quixote
DESCRIPTION:Escapism game\nWhen Cervantes wrote Don Quixote\, a chapter was lost. What did he want to tell? We know where it could be found\, but to find it we have to solve a mystery and escape a place in less than 60 minutes. Use your insight\, wit and teamwork to find the document and escape from potential dangers… \nMeeting point: TANDEM Madrid school at 3:00 pm
URL:https://old.tandemmadrid.com/event/mystery-don-quixote/
LOCATION:Cines Renoir Princesa\, Calle Marques de cubas\, 8\, Madrid\, 28014\, Spain
CATEGORIES:Going out
ATTACH;FMTTYPE=image/jpeg:https://old.tandemmadrid.com/tandem/wp-content/uploads/2017/07/misterio-cervantes.jpg
ORGANIZER;CN="TANDEM%20Madrid":MAILTO:spanishcourses@tandem-madrid.com, 
END:VEVENT
END:VCALENDAR