BEGIN:VCALENDAR
VERSION:2.0
PRODID:-//Cursos de español en Madrid. TANDEM Madrid escuela de español - ECPv5.3.1.1//NONSGML v1.0//EN
CALSCALE:GREGORIAN
METHOD:PUBLISH
X-WR-CALNAME:Cursos de español en Madrid. TANDEM Madrid escuela de español
X-ORIGINAL-URL:https://old.tandemmadrid.com/es
X-WR-CALDESC:Events for Cursos de español en Madrid. TANDEM Madrid escuela de español
BEGIN:VTIMEZONE
TZID:Europe/Madrid
BEGIN:DAYLIGHT
TZOFFSETFROM:+0100
TZOFFSETTO:+0200
TZNAME:CEST
DTSTART:20230326T010000
END:DAYLIGHT
BEGIN:STANDARD
TZOFFSETFROM:+0200
TZOFFSETTO:+0100
TZNAME:CET
DTSTART:20231029T010000
END:STANDARD
END:VTIMEZONE
BEGIN:VEVENT
DTSTART;TZID=Europe/Madrid:20230920T160000
DTEND;TZID=Europe/Madrid:20230920T180000
DTSTAMP:20260421T103544
CREATED:20160604T142501Z
LAST-MODIFIED:20230915T090058Z
UID:4398-1695225600-1695232800@old.tandemmadrid.com
SUMMARY:Programa Cultural TANDEM: Visita guiada al Palacio Real de Madrid
DESCRIPTION:[vc_row][vc_column][vc_column_text] \nEl Palacio Real de Madrid es la residencia oficial de los reyes de España\, aunque los actuales reyes no vivan en él\, sino en el Palacio de la Zarzuela. Actualmente es utilizado para ceremonias de Estado y actos solemnes\, además de ser una de las atracciones turísticas más visitadas de la ciudad. \nCon una extensión de 135 000 m² y 3418 habitaciones\, es el palacio real más grande de Europa Occidental\, cuya superficie es casi el doble que el Palacio de Buckingham o el Palacio de Versalles. El Palacio cuenta con un amplio patrimonio artístico e histórico\, sobretodo de pintura\, escultura y tapicería\, además de instrumentos musicales\, que puede ser visitado siempre que no haya actos oficiales. Muy cerca se encuentran varias otras atracciones turísticas\, como la Catedral de la Almudena\, el Teatro Real\, los Jardines de Sabatini y la Plaza de Oriente. \nAnteriormente el Palacio fue un alcázar\, una fortaleza de la época de la ocupación árabe\, y recibió varias reformas entre los siglos XIV y XVIII\, hasta que se convirtió en el edificio que conocemos hoy. \nEl Palacio Real de Madrid es un monumento de los más importantes para todos los interesados en conocer un poco más sobre la historia y cultura de España\, y nos ofrece la posibilidad de sentir por unos instantes todo el esplendor como imperio que nuestro país tuvo en el pasado. \nPunto de encuentro: A las 16.00 h en TANDEM Madrid.\n[/vc_column_text][/vc_column][/vc_row]
URL:https://old.tandemmadrid.com/es/evento/palacio-real-madrid/
LOCATION:Palacio Real de Madrid\, Calle de Bailén\, s/n\, Madrid\, 28013\, España
CATEGORIES:Clases culturales,Programa Cultural TANDEM,Visitas por Madrid
ATTACH;FMTTYPE=image/jpeg:https://old.tandemmadrid.com/es/wp-content/uploads/sites/4/2015/05/palacio-real-madrid.jpg
ORGANIZER;CN="TANDEM%20Madrid":MAILTO:spanishcourses@tandem-madrid.com
END:VEVENT
BEGIN:VEVENT
DTSTART;TZID=Europe/Madrid:20230920T200000
DTEND;TZID=Europe/Madrid:20230920T220000
DTSTAMP:20260421T103544
CREATED:20160709T145911Z
LAST-MODIFIED:20231002T085354Z
UID:4450-1695240000-1695247200@old.tandemmadrid.com
SUMMARY:Programa Cultural TANDEM: "Cool neighborhoods": Malasaña y microteatro
DESCRIPTION:[vc_row][vc_column][vc_column_text] \nCelebramos el dia de la Comunidad de Madrid (2 de mayo) con un paseo por el barrio de Malasaña  \nEl barrio donde empezó la rebelión contra el invasor francés… \n¿Te apetece conocer uno de los barrios más de moda de Madrid? Si es así estas en el lugar adecuado\, ya que iremos a dar una vuelta por Malasaña uno de los barrios más conocidos y emblemáticos de Madrid. Una zona pintoresca y multicultural que sin duda no puedes perderte. \nMalasaña es conocida un gran núcleo de la cultura alternativa y del arte urbano\, y con una vida nocturna de las más agitadas de la capital. También es una importante zona de compras\, con tendencias de moda también alternativa con la que se identifican varias “tribus urbanas”. Así que\, ¿A qué estás esperando para apuntarte a este planazo? \nPunto de encuentro: TANDEM Madrid a las 20:00h\n[/vc_column_text][/vc_column][/vc_row]
URL:https://old.tandemmadrid.com/es/evento/malasana/
LOCATION:Barrio de Malasaña\, Plaza Juan Pujol\, 1\, Madrid\, 28004\, España
CATEGORIES:Programa Cultural TANDEM,Visitas por Madrid
ATTACH;FMTTYPE=image/jpeg:https://old.tandemmadrid.com/es/wp-content/uploads/sites/4/malasana-madrid.jpg
ORGANIZER;CN="TANDEM%20Madrid":MAILTO:spanishcourses@tandem-madrid.com
END:VEVENT
END:VCALENDAR