BEGIN:VCALENDAR
VERSION:2.0
PRODID:-//Cursos de español en Madrid. TANDEM Madrid escuela de español - ECPv5.3.1.1//NONSGML v1.0//EN
CALSCALE:GREGORIAN
METHOD:PUBLISH
X-WR-CALNAME:Cursos de español en Madrid. TANDEM Madrid escuela de español
X-ORIGINAL-URL:https://old.tandemmadrid.com/es
X-WR-CALDESC:Events for Cursos de español en Madrid. TANDEM Madrid escuela de español
BEGIN:VTIMEZONE
TZID:Europe/Madrid
BEGIN:DAYLIGHT
TZOFFSETFROM:+0100
TZOFFSETTO:+0200
TZNAME:CEST
DTSTART:20210328T010000
END:DAYLIGHT
BEGIN:STANDARD
TZOFFSETFROM:+0200
TZOFFSETTO:+0100
TZNAME:CET
DTSTART:20211031T010000
END:STANDARD
END:VTIMEZONE
BEGIN:VEVENT
DTSTART;TZID=Europe/Madrid:20210415T130000
DTEND;TZID=Europe/Madrid:20210415T170000
DTSTAMP:20260419T162016
CREATED:20210412T112711Z
LAST-MODIFIED:20210412T121438Z
UID:6152-1618491600-1618506000@old.tandemmadrid.com
SUMMARY:Programa cultural TANDEM: Visita al Museo de Artes Decorativas y Parterre del Parque del Retiro
DESCRIPTION:[vc_row][vc_column][vc_column_text] \nEl Museo Nacional de Artes Decorativas es uno de los museos más antiguos de la capital Española\, Madrid. Si vienes a esta ciudad para ver su arte no te puedes perder este museo ya que es considerado parte del Triángulo del Arte de la ciudad. Este museo creado en 1912 te cuenta una historia que no puedes dejar de ver. \nEste famoso Museo que cuenta con 60 salas de exposición exhibe hasta 1.600 objetos de arte industrial o menor como muebles\, cerámicas\, vidrios o textiles. Estos objetos de arte provienen del siglo XV hasta el siglo XX. \nPor si no fuera suficiente también daremos un paseo por el Parterre Francés del Parque del Retiro\, uno de los lugares más bellos y más visitados del parque del retiro. Disfrutaremos de un paseo relajante por una de las zonas más icónicas de Madrid. \n¡Ven con nosotros a disfrutar del Museo de Artes Decorativas! \n[/vc_column_text][vc_column_text] \nPunto de encuentro: a las 13.00H en TANDEM Madrid. Precio 3€\n[/vc_column_text][/vc_column][/vc_row]
URL:https://old.tandemmadrid.com/es/evento/visita-museo-artes-decorativas-parterre-parque-retiro/
LOCATION:Museo de artes decorativas\, Calle de Montalbán 12\, Madrid\, Madrid\, 28014\, España
CATEGORIES:Excursiones,Exposiciones Artísticas,Programa Cultural TANDEM
ATTACH;FMTTYPE=image/jpeg:https://old.tandemmadrid.com/es/wp-content/uploads/sites/4/museo-nacional-artes-decorativas-madrid-scaled.jpg
ORGANIZER;CN="TANDEM%20Madrid":MAILTO:spanishcourses@tandem-madrid.com
END:VEVENT
END:VCALENDAR