BEGIN:VCALENDAR
VERSION:2.0
PRODID:-//Cursos de español en Madrid. TANDEM Madrid escuela de español - ECPv5.3.1.1//NONSGML v1.0//EN
CALSCALE:GREGORIAN
METHOD:PUBLISH
X-WR-CALNAME:Cursos de español en Madrid. TANDEM Madrid escuela de español
X-ORIGINAL-URL:https://old.tandemmadrid.com/es
X-WR-CALDESC:Events for Cursos de español en Madrid. TANDEM Madrid escuela de español
BEGIN:VTIMEZONE
TZID:Europe/Madrid
BEGIN:DAYLIGHT
TZOFFSETFROM:+0100
TZOFFSETTO:+0200
TZNAME:CEST
DTSTART:20190331T010000
END:DAYLIGHT
BEGIN:STANDARD
TZOFFSETFROM:+0200
TZOFFSETTO:+0100
TZNAME:CET
DTSTART:20191027T010000
END:STANDARD
END:VTIMEZONE
BEGIN:VEVENT
DTSTART;TZID=Europe/Madrid:20190214T153000
DTEND;TZID=Europe/Madrid:20190214T170000
DTSTAMP:20260419T150637
CREATED:20190210T181921Z
LAST-MODIFIED:20190210T184204Z
UID:5526-1550158200-1550163600@old.tandemmadrid.com
SUMMARY:Programa Cultural TANDEM: Visita a la exposición "Pongamos que hablo de Madrid" y al Cuartel del Conde Duque
DESCRIPTION:En esta salida por la ciudad\, veremos  una exposición que tiene a Madrid como protagonista a través del arte  madrileño de los últimos 40 años. También visitaremos el Cuartel del  Conde Duque\, sede del Museo Municipal de Arte Contemporáneo\, un espacio  espectacular y sorprendente\, “escondido” en una calle muy cercana a la  Plaza de España.  \nPunto de encuentro: A las 3 y media (15.30 h.) En la calle Conde Duque\, 9
URL:https://old.tandemmadrid.com/es/evento/visita-exposicion-pongamos-hablo-madrid-cuartel-conde-duque/
LOCATION:Conde Duque\, Calle Conde Duque 11\, Madrid\, 28015\, España
CATEGORIES:Programa Cultural TANDEM,Salir por Madrid,Visitas por Madrid
ATTACH;FMTTYPE=image/jpeg:https://old.tandemmadrid.com/es/wp-content/uploads/sites/4/conde-duque-madrid.jpg
ORGANIZER;CN="TANDEM%20Madrid":MAILTO:spanishcourses@tandem-madrid.com
END:VEVENT
END:VCALENDAR