BEGIN:VCALENDAR
VERSION:2.0
PRODID:-//Cursos de español en Madrid. TANDEM Madrid escuela de español - ECPv5.3.1.1//NONSGML v1.0//EN
CALSCALE:GREGORIAN
METHOD:PUBLISH
X-WR-CALNAME:Cursos de español en Madrid. TANDEM Madrid escuela de español
X-ORIGINAL-URL:https://old.tandemmadrid.com/es
X-WR-CALDESC:Events for Cursos de español en Madrid. TANDEM Madrid escuela de español
BEGIN:VTIMEZONE
TZID:Europe/Madrid
BEGIN:DAYLIGHT
TZOFFSETFROM:+0100
TZOFFSETTO:+0200
TZNAME:CEST
DTSTART:20230326T010000
END:DAYLIGHT
BEGIN:STANDARD
TZOFFSETFROM:+0200
TZOFFSETTO:+0100
TZNAME:CET
DTSTART:20231029T010000
END:STANDARD
END:VTIMEZONE
BEGIN:VEVENT
DTSTART;TZID=Europe/Madrid:20230307T133000
DTEND;TZID=Europe/Madrid:20230307T153000
DTSTAMP:20260419T150425
CREATED:20211108T094727Z
LAST-MODIFIED:20230303T110246Z
UID:6431-1678195800-1678203000@old.tandemmadrid.com
SUMMARY:Programa Cultural TANDEM: Visita a la vinoteca Lavinia\, en la "Milla de oro" y degustación de vinos españoles
DESCRIPTION:[vc_row][vc_column][vc_column_text] \n\nEsta semana visitaremos la vinoteca Lavinia\, una exclusiva tienda de vinos en el barrio de Salamanca en Madrid \, diáfana y vanguardista. También tienen tiendas en La Moraleja (Madrid)\, Paris (Francia) y Ginebra (Suiza). Además de su extensa carta de vinos\, entre los que podremos degustar algunos\, ofrecen cursos de cata y disponen de un restaurante de cocina creativa. \n  \n  \nPunto de encuentro: C\ Ortega y Gasset\,16 a las 13:30h  \nPrecio: 20€\, pagar en secretaría \n[/vc_column_text][/vc_column][/vc_row]
URL:https://old.tandemmadrid.com/es/evento/vinoteca-lavinia/
CATEGORIES:Gastronomía,Programa Cultural TANDEM,Salir por Madrid
ATTACH;FMTTYPE=image/jpeg:https://old.tandemmadrid.com/es/wp-content/uploads/sites/4/vinoteca-lavinia-madrid.jpg
END:VEVENT
END:VCALENDAR