BEGIN:VCALENDAR
VERSION:2.0
PRODID:-//Cursos de español en Madrid. TANDEM Madrid escuela de español - ECPv5.3.1.1//NONSGML v1.0//EN
CALSCALE:GREGORIAN
METHOD:PUBLISH
X-WR-CALNAME:Cursos de español en Madrid. TANDEM Madrid escuela de español
X-ORIGINAL-URL:https://old.tandemmadrid.com/es
X-WR-CALDESC:Events for Cursos de español en Madrid. TANDEM Madrid escuela de español
BEGIN:VTIMEZONE
TZID:Europe/Madrid
BEGIN:DAYLIGHT
TZOFFSETFROM:+0100
TZOFFSETTO:+0200
TZNAME:CEST
DTSTART:20230326T010000
END:DAYLIGHT
BEGIN:STANDARD
TZOFFSETFROM:+0200
TZOFFSETTO:+0100
TZNAME:CET
DTSTART:20231029T010000
END:STANDARD
END:VTIMEZONE
BEGIN:VEVENT
DTSTART;TZID=Europe/Madrid:20230608T170000
DTEND;TZID=Europe/Madrid:20230608T193000
DTSTAMP:20260419T161927
CREATED:20230605T091214Z
LAST-MODIFIED:20230605T091320Z
UID:6598-1686243600-1686252600@old.tandemmadrid.com
SUMMARY:Paseo por tiendas de segunda mano y huertos urbanos
DESCRIPTION:Todos participamos por un mundo mejor.\nEn esta actividad descubrirás\, de la mano de profesionales\, nuevas formas de consumir.\nPunto de encuentro: Metro de Lavapiés\, a las 17:00h
URL:https://old.tandemmadrid.com/es/evento/tiendas-segunda-mano-huertos-urbanos/
CATEGORIES:Ferias Culturales
ATTACH;FMTTYPE=image/jpeg:https://old.tandemmadrid.com/es/wp-content/uploads/sites/4/2015/10/lavapies.jpg
END:VEVENT
END:VCALENDAR