BEGIN:VCALENDAR
VERSION:2.0
PRODID:-//Cursos de español en Madrid. TANDEM Madrid escuela de español - ECPv5.3.1.1//NONSGML v1.0//EN
CALSCALE:GREGORIAN
METHOD:PUBLISH
X-WR-CALNAME:Cursos de español en Madrid. TANDEM Madrid escuela de español
X-ORIGINAL-URL:https://old.tandemmadrid.com/es
X-WR-CALDESC:Events for Cursos de español en Madrid. TANDEM Madrid escuela de español
BEGIN:VTIMEZONE
TZID:Europe/Madrid
BEGIN:DAYLIGHT
TZOFFSETFROM:+0100
TZOFFSETTO:+0200
TZNAME:CEST
DTSTART:20220327T010000
END:DAYLIGHT
BEGIN:STANDARD
TZOFFSETFROM:+0200
TZOFFSETTO:+0100
TZNAME:CET
DTSTART:20221030T010000
END:STANDARD
END:VTIMEZONE
BEGIN:VEVENT
DTSTART;TZID=Europe/Madrid:20220915T180000
DTEND;TZID=Europe/Madrid:20220915T193000
DTSTAMP:20260419T143820
CREATED:20190224T094721Z
LAST-MODIFIED:20220912T123047Z
UID:5546-1663264800-1663270200@old.tandemmadrid.com
SUMMARY:Programa Cultural TANDEM: Templo de Debod y paseo por el Parque del Oeste
DESCRIPTION:[vc_row][vc_column][vc_column_text] \nEl Templo de Debod fue un regalo de Egipto a España en 1968 en compensación por la ayuda española tras el llamamiento internacional realizado por la Unesco para salvar los templos de Nubia\, en peligro de desaparición debido a la construcción de la presa de Asuán. Está ubicado en un bonito parque desde el que se pueden contemplar espectaculares puestas de sol. Daremos también un paseo por el Parque del Oeste. \nPunto de encuentro: 18:00h. EN LA ENTRADA DEL HOTEL RIU\, EN PLAZA DE ESPAÑA (METRO PLAZA DE ESPAÑA)\n[/vc_column_text][/vc_column][/vc_row]
URL:https://old.tandemmadrid.com/es/evento/templo-debod-parque-oeste/
LOCATION:Templo de Debod\, Calle Ferraz\, 1\, Madrid\, Madrid\, 28008\, España
CATEGORIES:Programa Cultural TANDEM,Salir por Madrid
ATTACH;FMTTYPE=image/jpeg:https://old.tandemmadrid.com/es/wp-content/uploads/sites/4/templo-debod-es.jpg
ORGANIZER;CN="TANDEM%20Madrid":MAILTO:spanishcourses@tandem-madrid.com
END:VEVENT
END:VCALENDAR