BEGIN:VCALENDAR
VERSION:2.0
PRODID:-//Cursos de español en Madrid. TANDEM Madrid escuela de español - ECPv5.3.1.1//NONSGML v1.0//EN
CALSCALE:GREGORIAN
METHOD:PUBLISH
X-WR-CALNAME:Cursos de español en Madrid. TANDEM Madrid escuela de español
X-ORIGINAL-URL:https://old.tandemmadrid.com/es
X-WR-CALDESC:Events for Cursos de español en Madrid. TANDEM Madrid escuela de español
BEGIN:VTIMEZONE
TZID:Europe/Madrid
BEGIN:DAYLIGHT
TZOFFSETFROM:+0100
TZOFFSETTO:+0200
TZNAME:CEST
DTSTART:20210328T010000
END:DAYLIGHT
BEGIN:STANDARD
TZOFFSETFROM:+0200
TZOFFSETTO:+0100
TZNAME:CET
DTSTART:20211031T010000
END:STANDARD
END:VTIMEZONE
BEGIN:VEVENT
DTSTART;TZID=Europe/Madrid:20210408T130000
DTEND;TZID=Europe/Madrid:20210408T160000
DTSTAMP:20260419T143919
CREATED:20210405T143144Z
LAST-MODIFIED:20210405T143354Z
UID:6146-1617886800-1617897600@old.tandemmadrid.com
SUMMARY:Programa Cultural TANDEM: Ruta por la Universidad Complutense
DESCRIPTION:[vc_row][vc_column][vc_column_text] \n¿Conoces ya la ciudad universitaria de Madrid? \nLa Universidad Complutense de Madrid es un lugar de en el que coinciden todos los jóvenes estudiantes. Y no solamente de Madrid si no de toda España. Se trata de uno de los campus más extensos de toda Europa cuyo origen data de principios del siglo XX con el objetivo de poder agrupar las distintas facultades que se encontraban dispersas por toda la ciudad- \nEn la ruta que llevaremos a cabo podremos observar toda la historia que acompaña a la Universidad pasando por todos sus edificios históricos\, así como su bonita arquitectura\, su jardín botánico y el precioso entorno verde que le rodea. Una ruta que no te puedes perder si estás buscando conocer Madrid. \n¡Vente a descubrir el campus de la Universidad Complutense con nosotros! \nPunto de encuentro: a las 13:00 en TANDEM Madrid\n[/vc_column_text][/vc_column][/vc_row]
URL:https://old.tandemmadrid.com/es/evento/ruta-universidad-complutense/
LOCATION:Universidad Complutense\, Av. Séneca\, 2\, Madrid\, Madrid\, 28040\, España
CATEGORIES:Programa Cultural TANDEM
ATTACH;FMTTYPE=image/jpeg:https://old.tandemmadrid.com/es/wp-content/uploads/sites/4/programa-cultural-tandem-ruta-universidad-complutense.jpg
ORGANIZER;CN="TANDEM%20Madrid":MAILTO:spanishcourses@tandem-madrid.com
END:VEVENT
END:VCALENDAR