BEGIN:VCALENDAR
VERSION:2.0
PRODID:-//Cursos de español en Madrid. TANDEM Madrid escuela de español - ECPv5.3.1.1//NONSGML v1.0//EN
CALSCALE:GREGORIAN
METHOD:PUBLISH
X-WR-CALNAME:Cursos de español en Madrid. TANDEM Madrid escuela de español
X-ORIGINAL-URL:https://old.tandemmadrid.com/es
X-WR-CALDESC:Events for Cursos de español en Madrid. TANDEM Madrid escuela de español
BEGIN:VTIMEZONE
TZID:Europe/Madrid
BEGIN:DAYLIGHT
TZOFFSETFROM:+0100
TZOFFSETTO:+0200
TZNAME:CEST
DTSTART:20230326T010000
END:DAYLIGHT
BEGIN:STANDARD
TZOFFSETFROM:+0200
TZOFFSETTO:+0100
TZNAME:CET
DTSTART:20231029T010000
END:STANDARD
END:VTIMEZONE
BEGIN:VEVENT
DTSTART;TZID=Europe/Madrid:20230303T133000
DTEND;TZID=Europe/Madrid:20230303T170000
DTSTAMP:20260419T165021
CREATED:20230303T105350Z
LAST-MODIFIED:20230303T110508Z
UID:6565-1677850200-1677862800@old.tandemmadrid.com
SUMMARY:Ritos y ceremonias de la religión católica en el Barrio de las Letras
DESCRIPTION:[vc_row][vc_column][vc_column_text] \nEn esta actividad conoceremos los ritos católicos más importantes a través de la visita a diferentes lugares de interés cultural\, religioso y artístico: \nVisitaremos la Basílica de Jesús de Medinaceli (Muestra de la devoción popular)\, como representante del rito religioso: cientos de personas hacen cola para ir a besar la imagen de Jesús de Nazaret\, conocido como Cristo de Medinaceli. \nRecordaremos los SACRAMENTOS RELIGIOSOS más importantes: Bautismo\, Matrimonio y Enterramiento\, en la visita a diferentes conventos e iglesias\, en los que fueron bautizados\, casados y enterrados muchos escritores españoles ilustres\, como Becquer\, Zorrilla\, Lope de Vega\, Jacinto Benavente y una larga lista de personajes célebres españoles. De esta manera conectaremos la literatura y la religión. \nPunto de encuentro: TANDEM Madrid\, a las 13:30 h.\n[/vc_column_text][/vc_column][/vc_row] \nFotografía de Archimadrid\, en Flickr
URL:https://old.tandemmadrid.com/es/evento/ritos-ceremonias-religion-catolica-barrio-letras/
CATEGORIES:Programa Cultural TANDEM,Visitas por Madrid
ATTACH;FMTTYPE=image/jpeg:https://old.tandemmadrid.com/es/wp-content/uploads/sites/4/Besapies_a_Jesus_de_Medinaceli.jpg
END:VEVENT
END:VCALENDAR