BEGIN:VCALENDAR
VERSION:2.0
PRODID:-//Cursos de español en Madrid. TANDEM Madrid escuela de español - ECPv5.3.1.1//NONSGML v1.0//EN
CALSCALE:GREGORIAN
METHOD:PUBLISH
X-WR-CALNAME:Cursos de español en Madrid. TANDEM Madrid escuela de español
X-ORIGINAL-URL:https://old.tandemmadrid.com/es
X-WR-CALDESC:Events for Cursos de español en Madrid. TANDEM Madrid escuela de español
BEGIN:VTIMEZONE
TZID:Europe/Madrid
BEGIN:DAYLIGHT
TZOFFSETFROM:+0100
TZOFFSETTO:+0200
TZNAME:CEST
DTSTART:20230326T010000
END:DAYLIGHT
BEGIN:STANDARD
TZOFFSETFROM:+0200
TZOFFSETTO:+0100
TZNAME:CET
DTSTART:20231029T010000
END:STANDARD
END:VTIMEZONE
BEGIN:VEVENT
DTSTART;TZID=Europe/Madrid:20230313T180000
DTEND;TZID=Europe/Madrid:20230313T203000
DTSTAMP:20260419T150558
CREATED:20230310T112628Z
LAST-MODIFIED:20230310T112809Z
UID:6567-1678730400-1678739400@old.tandemmadrid.com
SUMMARY:Religión y arquitectura: un recorrido por los diferentes estilos artísticos
DESCRIPTION:En este paseo por la arquitectura religiosa visitaremos diferentes iglesias de interés artístico y cultural\, conociendo diferentes estilos artísticos como huella de la rica producción artística española a lo largo de los siglos: Visitaremos la Iglesia de Jesús de Medinaceli\, representación de la arquitectura ecléctica (tendencia que mezcla diferentes estilos y épocas de la historia del arte); La impresionante iglesia de los Jerónimos\, como ejemplo del arte gótico español; y la iglesia de San Manuel y San Benito\, de estilo Neo-bizantino.    \nPunto de encuentro: TANDEM Madrid\, a las 18:00 P.M.\nFotografía de Archimadrid\, en Flickr
URL:https://old.tandemmadrid.com/es/evento/religion-arquitectura-estilos-artisticos/
CATEGORIES:Visitas por Madrid
ATTACH;FMTTYPE=image/jpeg:https://old.tandemmadrid.com/es/wp-content/uploads/sites/4/Besapies_a_Jesus_de_Medinaceli.jpg
END:VEVENT
END:VCALENDAR