BEGIN:VCALENDAR
VERSION:2.0
PRODID:-//Cursos de español en Madrid. TANDEM Madrid escuela de español - ECPv5.3.1.1//NONSGML v1.0//EN
CALSCALE:GREGORIAN
METHOD:PUBLISH
X-WR-CALNAME:Cursos de español en Madrid. TANDEM Madrid escuela de español
X-ORIGINAL-URL:https://old.tandemmadrid.com/es
X-WR-CALDESC:Events for Cursos de español en Madrid. TANDEM Madrid escuela de español
BEGIN:VTIMEZONE
TZID:Europe/Madrid
BEGIN:DAYLIGHT
TZOFFSETFROM:+0100
TZOFFSETTO:+0200
TZNAME:CEST
DTSTART:20160327T010000
END:DAYLIGHT
BEGIN:STANDARD
TZOFFSETFROM:+0200
TZOFFSETTO:+0100
TZNAME:CET
DTSTART:20161030T010000
END:STANDARD
END:VTIMEZONE
BEGIN:VEVENT
DTSTART;TZID=Europe/Madrid:20160623T180000
DTEND;TZID=Europe/Madrid:20160626T230000
DTSTAMP:20260419T150525
CREATED:20160615T202505Z
LAST-MODIFIED:20160615T224343Z
UID:4403-1466704800-1466982000@old.tandemmadrid.com
SUMMARY:Premios Bollywood 2016 en Madrid
DESCRIPTION:Bollywood\, como se le conoce a la industria de cine de la India\, tendrá lugar este 2016 en la ciudad de Madrid\, para la entrega de los premios de la International Indian Film Academy (IIFA)\, lo que muchos identifican como el equivalente surasiático de los premios Óscar. \nBollywood 2016: una noche llena de color y entretenimiento\nEsta celebración estelar del cine indio\, se realiza cada año en diferentes lugares internacionales con el propósito principal de llegar a sus millones de fanáticos y en esta oportunidad los madrileños lo disfrutarán en primera fila y a unos pocos pasos en IFEMA Madrid. \nEn esta oportunidad para la celebración de la 17ª edición de los premios IIFA\, absolutamente toda la industria de Bollywood realizará su traslado a las instalaciones del Consorcio Institución Ferial de Madrid (IFEMA)\, para dar la noche del 25 de junio un espectáculo que promete abarcar no solo el mundo del cine\, sino también la música\, la cultura y la moda india. Un evento caracterizado por llenar de magia el escenario y sobre todo de mucho entretenimiento\, sin duda será un evento y una noche de glamour en la que Bollywood será honrado por su talento y que muchos no podrán olvidar. \nLlegarán miles de turistas de diferentes partes del mundo como Alemania\, Londres\, Dubai\, Rotterdam e India. Se estima que aproximadamente quince mil personas llegarán a la capital para disfrutar de la celebración\, así como también se espera la llegada de al menos 500 periodistas internacionales para dar cobertura al evento\, algo que sin duda causará un gran impacto económico\, por lo que muchos concuerdan en que esta celebración ayuda a fortalecer los lazos entre Madrid y la India. \nLeer más + \n\n \nA lo largo de sus maravillosos 17 años\, los premios IIFA han visto actuaciones deslumbrantes por parte de grandes súper estrellas del cine de la India como lo son: \n\nBipasha Basu\nAbhishek Bachchan\nPriyanka Chopra\nSalman Khan\nDeepika Padukone\nShak Rukh Khan\nKatrina Kaif\nRanbir Kapoor\nAnushka Sharma\n\nComo era de esperarse este majestuoso evento está organizado por Wizcraft\, líder en comunicación y entretenimiento de la India\, una empresa que une la estrategia\, la tecnología y la creatividad para ofrecer un entretenimiento interactivo y soluciones de eventos a una audiencia global. \nA partir de las 18h comenzará el desfile de las celebridades en la alfombra verde\, hasta las 21h que tendrá comienzo la entrega de premios\, que además estará conducido por dos estupendos actores Farhan Akhtar y Shahid Kapoor. A este evento tendrán lugar cerca de 150 celebridades pertenecientes al cine indio\, entre las cuales están: \n\nSalman Kahn\nHrithik Roshan\nPriyanka Chopra\nDeepika Padukone\nSonakshi Sinha\n\nSin contar con el propio personal de IIFA\, con los que Madrid espera aumentar los participantes en el evento en alrededor de 800 personas. \nSegún explica André Timmins\, director de IIFA\, siempre que celebran estos premios\, presentan preestrenos de películas y algunos espectáculos musicales en directo\, pues la idea es acercar a la población local al cine indio. \nPara este evento se ofrecen tres días de celebración desde el jueves 23 de junio hasta el domingo 26 de junio de 2016\, por lo que la IIFA-Madrid 2016 estará compuesta de tres galas; la IIFA Green Carpet and Awards que es la ceremonia de la entrega de premios\, la segunda es la IIFA Rocks\, la gala musical\, donde se podrán observar a los mejores artistas de la industria de la música india como por ejemplo el director\, cantante y compositor Pritam\, quien compartirá escenario con artistas españoles; y una tercera gala que exhibe una tendencia urbana (moda\, música electrónica\, etc.) que es la IIFA Stomp & Rang Jam. \nLa IIFA no está relacionada solamente con los premios\, aquí se engloban una cantidad enorme de actividades de negocio donde se beneficien ambos países\, pues debido a que este año 2016 marca seis décadas de relaciones diplomáticas entre España e India\, se ha planificado una gran cantidad de actividades en paralelo en las que se ubica una reconocida actriz que será la anfitriona de un festival de yoga en las calles\, también contarán con una celebración de Holi\, con artistas de henna\, danzas indígenas y una feria de comida India en la calle que estará en oferta. Este año IIFA también colabora con el festival Mulafest 2016\, que también se realizará en IFEMA entre los días 24 y 26 de junio. \nTimmins\, responsable de la gala informó que la elección de Madrid se debe\, entre otros factores\, al hecho de acercarse al público hispanohablante siendo este uno de los principales del planeta. Asegura también que llevarán la gala a Sudamérica y que hace dos años habían negociado con Perú\, sin embargo el país no contaba con un auditorio apropiado. \nEl precio de las entradas para este gran evento se ubica desde los 50\,00 € la más económica y 225 € la más costosa\, sin embargo\, todo parece indicar que las entradas se agotaron a tan solo tres semanas del mega evento. Sin embargo\, los fans aún están a tiempo de comprar su asiento para disfrutar del espectáculo musical IIFA Rocks.\n\nIMPORTANTE: Entrada solo para niños mayores de 5 años\, que deberán validar su entrada. \nSi deseas saber más acerca de Bollywood 2016\, puedes visitar la página oficial del evento. \nPara llegar al recinto\, las líneas de Metro\, específicamente la línea 8\, estación de Campo de las Naciones\, al igual de que las líneas de autobús 112\, 122 y 828\, que ofrecerán las mayores facilidades para que puedas llegar sin problema alguno\, también podrás contar con servicio de parking y parada de taxis. \nSerá una noche llena de color\, música\, baile\, magia y de mucho entretenimiento. Ven y disfruta de este magnífico evento en directo\, no dejes que otros te lo cuenten.
URL:https://old.tandemmadrid.com/es/evento/premios-bollywood-2016-madrid/
LOCATION:Feria de Madrid (IFEMA)\, Avda. del Partenón\, 5\, Madrid\, 28042\, España
CATEGORIES:Espectáculos,Ferias Culturales
ATTACH;FMTTYPE=image/jpeg:https://old.tandemmadrid.com/es/wp-content/uploads/sites/4/2015/05/bollywood-2016.jpg
ORGANIZER;CN="Wizcraft":MAILTO:wizcraft@wizcraftworld.com
END:VEVENT
END:VCALENDAR