BEGIN:VCALENDAR
VERSION:2.0
PRODID:-//Cursos de español en Madrid. TANDEM Madrid escuela de español - ECPv5.3.1.1//NONSGML v1.0//EN
CALSCALE:GREGORIAN
METHOD:PUBLISH
X-WR-CALNAME:Cursos de español en Madrid. TANDEM Madrid escuela de español
X-ORIGINAL-URL:https://old.tandemmadrid.com/es
X-WR-CALDESC:Events for Cursos de español en Madrid. TANDEM Madrid escuela de español
BEGIN:VTIMEZONE
TZID:Europe/Madrid
BEGIN:DAYLIGHT
TZOFFSETFROM:+0100
TZOFFSETTO:+0200
TZNAME:CEST
DTSTART:20160327T010000
END:DAYLIGHT
BEGIN:STANDARD
TZOFFSETFROM:+0200
TZOFFSETTO:+0100
TZNAME:CET
DTSTART:20161030T010000
END:STANDARD
END:VTIMEZONE
BEGIN:VEVENT
DTSTART;TZID=Europe/Madrid:20161118T200000
DTEND;TZID=Europe/Madrid:20161118T235500
DTSTAMP:20260419T150525
CREATED:20161110T174919Z
LAST-MODIFIED:20161110T180749Z
UID:4713-1479499200-1479513300@old.tandemmadrid.com
SUMMARY:Paul Simon Concierto en Madrid
DESCRIPTION:El artista estadounidense regresa a los escenarios recalando en nuestro país. En su actuación\, en el Barclaycard Center de Madrid\, no faltarán los temas que le lanzaron a la fama junto a su compañero Garfunkel.
URL:https://old.tandemmadrid.com/es/evento/paul-simon-concierto/
LOCATION:Barclaycard Center\, Avenida de Felipe II s/n\, Madrid\, Madrid\, 28009\, España
CATEGORIES:Música,Salir por Madrid
ATTACH;FMTTYPE=image/png:https://old.tandemmadrid.com/es/wp-content/uploads/sites/4/Paul-Simon.png
END:VEVENT
END:VCALENDAR