BEGIN:VCALENDAR
VERSION:2.0
PRODID:-//Cursos de español en Madrid. TANDEM Madrid escuela de español - ECPv5.3.1.1//NONSGML v1.0//EN
CALSCALE:GREGORIAN
METHOD:PUBLISH
X-WR-CALNAME:Cursos de español en Madrid. TANDEM Madrid escuela de español
X-ORIGINAL-URL:https://old.tandemmadrid.com/es
X-WR-CALDESC:Events for Cursos de español en Madrid. TANDEM Madrid escuela de español
BEGIN:VTIMEZONE
TZID:Europe/Madrid
BEGIN:DAYLIGHT
TZOFFSETFROM:+0100
TZOFFSETTO:+0200
TZNAME:CEST
DTSTART:20220327T010000
END:DAYLIGHT
BEGIN:STANDARD
TZOFFSETFROM:+0200
TZOFFSETTO:+0100
TZNAME:CET
DTSTART:20221030T010000
END:STANDARD
END:VTIMEZONE
BEGIN:VEVENT
DTSTART;TZID=Europe/Madrid:20221206T133000
DTEND;TZID=Europe/Madrid:20221206T150000
DTSTAMP:20260419T180024
CREATED:20221202T103531Z
LAST-MODIFIED:20221202T103531Z
UID:6526-1670333400-1670338800@old.tandemmadrid.com
SUMMARY:Paseo por la plaza del Congreso de los Diputados y el barrio de las letras
DESCRIPTION:[vc_row][vc_column][vc_column_text] \nPunto de encuentro: TANDEM a las 13:30.\n[/vc_column_text][/vc_column][/vc_row]
URL:https://old.tandemmadrid.com/es/evento/paseo-congreso-diputados-barrio-letras/
CATEGORIES:Programa Cultural TANDEM,Visitas por Madrid
ATTACH;FMTTYPE=image/jpeg:https://old.tandemmadrid.com/es/wp-content/uploads/sites/4/2015/10/barrio-de-las-letras.jpg
END:VEVENT
END:VCALENDAR