BEGIN:VCALENDAR
VERSION:2.0
PRODID:-//Cursos de español en Madrid. TANDEM Madrid escuela de español - ECPv5.3.1.1//NONSGML v1.0//EN
CALSCALE:GREGORIAN
METHOD:PUBLISH
X-WR-CALNAME:Cursos de español en Madrid. TANDEM Madrid escuela de español
X-ORIGINAL-URL:https://old.tandemmadrid.com/es
X-WR-CALDESC:Events for Cursos de español en Madrid. TANDEM Madrid escuela de español
BEGIN:VTIMEZONE
TZID:Europe/Madrid
BEGIN:DAYLIGHT
TZOFFSETFROM:+0100
TZOFFSETTO:+0200
TZNAME:CEST
DTSTART:20200329T010000
END:DAYLIGHT
BEGIN:STANDARD
TZOFFSETFROM:+0200
TZOFFSETTO:+0100
TZNAME:CET
DTSTART:20201025T010000
END:STANDARD
END:VTIMEZONE
BEGIN:VEVENT
DTSTART;TZID=Europe/Madrid:20200120T130000
DTEND;TZID=Europe/Madrid:20200120T133000
DTSTAMP:20260419T144027
CREATED:20200117T132942Z
LAST-MODIFIED:20200120T111312Z
UID:5853-1579525200-1579527000@old.tandemmadrid.com
SUMMARY:Orientación a los nuevos estudiantes
DESCRIPTION:[vc_row][vc_column][vc_column_text]¡Bienvenido/a a Madrid! \nQueremos que tu primer día en la escuela sea emocionante. Por esto tendrás una charla orientativa con el equipo de TANDEM Madrid para conocer todo sobre nuestra escuela y lo que necesitas saber para disfrutar al máximo de Madrid. Como desplazarte por la ciudad\, sitios interesantes que visitar\, consejos sobre tu estancia y muchas otras cosas.[/vc_column_text][vc_column_text] \nPunto de encuentro: En TANDEM Madrid (Aula 6) a las 13.00 h. \n[/vc_column_text][/vc_column][/vc_row]
URL:https://old.tandemmadrid.com/es/evento/orientacion-nuevos-estudiantes/
LOCATION:TANDEM Madrid\, Calle Marqués de Cubas\, 8\, Madrid\, España
CATEGORIES:Clases culturales,Programa Cultural TANDEM
ATTACH;FMTTYPE=image/jpeg:https://old.tandemmadrid.com/es/wp-content/uploads/sites/4/welcome-1.jpg
ORGANIZER;CN="TANDEM%20Madrid":MAILTO:spanishcourses@tandem-madrid.com
END:VEVENT
END:VCALENDAR