BEGIN:VCALENDAR
VERSION:2.0
PRODID:-//Cursos de español en Madrid. TANDEM Madrid escuela de español - ECPv5.3.1.1//NONSGML v1.0//EN
CALSCALE:GREGORIAN
METHOD:PUBLISH
X-WR-CALNAME:Cursos de español en Madrid. TANDEM Madrid escuela de español
X-ORIGINAL-URL:https://old.tandemmadrid.com/es
X-WR-CALDESC:Events for Cursos de español en Madrid. TANDEM Madrid escuela de español
BEGIN:VTIMEZONE
TZID:Europe/Madrid
BEGIN:DAYLIGHT
TZOFFSETFROM:+0100
TZOFFSETTO:+0200
TZNAME:CEST
DTSTART:20210328T010000
END:DAYLIGHT
BEGIN:STANDARD
TZOFFSETFROM:+0200
TZOFFSETTO:+0100
TZNAME:CET
DTSTART:20211031T010000
END:STANDARD
END:VTIMEZONE
BEGIN:VEVENT
DTSTART;TZID=Europe/Madrid:20211123T130000
DTEND;TZID=Europe/Madrid:20211123T160000
DTSTAMP:20260419T143834
CREATED:20211122T121829Z
LAST-MODIFIED:20211122T121829Z
UID:6435-1637672400-1637683200@old.tandemmadrid.com
SUMMARY:Programa Cultural TANDEM: Paseo por la Nueva Plaza España
DESCRIPTION:Ya te conoces el dicho\, Madrid siempre esta de obras. Pues ya ha acabado una de ellas\, después de 3 años de obra\, por fin\, está lista la nueva zona peatonal de Plaza de España. Y que mejor forma de inaugurarla que con Tandem y sus alumnos dando un paseo por ella. Haremos el nuevo recorrido pasando por el Palacio Real y el Templo de Debod. No lo dudes más y ven con nosotros a disfrutar de la maravillosa ciudad que es Madrid sin obras. \nCómo ya te hemos dicho veremos el magnífico Palacio Real\, uno de los sitios más característicos de la capital madrileña que sin duda no te puedes perder. También iremos al Templo de Debod\, un templo histórico que cuenta con una curiosa historia\, un regalo de Egipto a España. Este templo de gran belleza tiene una antigüedad de 2200 años y se encontraba a orillas del río Nilo próximo a la primera catarata de la baja Nubia.  \nPunto de encuentro: TANDEM Madrid\, a las 13:00H.
URL:https://old.tandemmadrid.com/es/evento/nueva-plaza-espana/
CATEGORIES:Programa Cultural TANDEM,Salir por Madrid
ATTACH;FMTTYPE=image/jpeg:https://old.tandemmadrid.com/es/wp-content/uploads/sites/4/nueva-plaza-espana-madrid-scaled.jpg
END:VEVENT
END:VCALENDAR