BEGIN:VCALENDAR
VERSION:2.0
PRODID:-//Cursos de español en Madrid. TANDEM Madrid escuela de español - ECPv5.3.1.1//NONSGML v1.0//EN
CALSCALE:GREGORIAN
METHOD:PUBLISH
X-WR-CALNAME:Cursos de español en Madrid. TANDEM Madrid escuela de español
X-ORIGINAL-URL:https://old.tandemmadrid.com/es
X-WR-CALDESC:Events for Cursos de español en Madrid. TANDEM Madrid escuela de español
BEGIN:VTIMEZONE
TZID:Europe/Madrid
BEGIN:DAYLIGHT
TZOFFSETFROM:+0100
TZOFFSETTO:+0200
TZNAME:CEST
DTSTART:20220327T010000
END:DAYLIGHT
BEGIN:STANDARD
TZOFFSETFROM:+0200
TZOFFSETTO:+0100
TZNAME:CET
DTSTART:20221030T010000
END:STANDARD
END:VTIMEZONE
BEGIN:VEVENT
DTSTART;TZID=Europe/Madrid:20221103T162000
DTEND;TZID=Europe/Madrid:20221103T183000
DTSTAMP:20260419T161323
CREATED:20160410T120735Z
LAST-MODIFIED:20221031T124807Z
UID:4305-1667492400-1667500200@old.tandemmadrid.com
SUMMARY:Visita a la Casa Museo Lope de Vega y paseo por el barrio de las Letras
DESCRIPTION:[vc_row][vc_column][vc_column_text] \nVisita a la Casa Museo Lope de Vega y paseo por el barrio de las Letras\nPunto de encuentro: c\ Cervantes\,11 a las 16:20h\n[/vc_column_text][/vc_column][/vc_row]
URL:https://old.tandemmadrid.com/es/evento/museo-lope-de-vega/
LOCATION:Barrio de las Letras\, Madrid\, Madrid\, 28014\, España
CATEGORIES:Programa Cultural TANDEM,Visitas por Madrid
ATTACH;FMTTYPE=image/jpeg:https://old.tandemmadrid.com/es/wp-content/uploads/sites/4/museo-Lope-de-Vega-estudio.jpg
ORGANIZER;CN="TANDEM%20Madrid":MAILTO:spanishcourses@tandem-madrid.com
END:VEVENT
END:VCALENDAR