BEGIN:VCALENDAR
VERSION:2.0
PRODID:-//Cursos de español en Madrid. TANDEM Madrid escuela de español - ECPv5.3.1.1//NONSGML v1.0//EN
CALSCALE:GREGORIAN
METHOD:PUBLISH
X-WR-CALNAME:Cursos de español en Madrid. TANDEM Madrid escuela de español
X-ORIGINAL-URL:https://old.tandemmadrid.com/es
X-WR-CALDESC:Events for Cursos de español en Madrid. TANDEM Madrid escuela de español
BEGIN:VTIMEZONE
TZID:Europe/Madrid
BEGIN:DAYLIGHT
TZOFFSETFROM:+0100
TZOFFSETTO:+0200
TZNAME:CEST
DTSTART:20230326T010000
END:DAYLIGHT
BEGIN:STANDARD
TZOFFSETFROM:+0200
TZOFFSETTO:+0100
TZNAME:CET
DTSTART:20231029T010000
END:STANDARD
END:VTIMEZONE
BEGIN:VEVENT
DTSTART;TZID=Europe/Madrid:20230802T131500
DTEND;TZID=Europe/Madrid:20230802T163000
DTSTAMP:20260419T150431
CREATED:20230727T104356Z
LAST-MODIFIED:20230727T104412Z
UID:6608-1690982100-1690993800@old.tandemmadrid.com
SUMMARY:VISITA AL MUSEO CERRALBO
DESCRIPTION:[vc_row][vc_column][vc_column_text] \nEl Museo Cerralbo es un museo nacional español en Madrid\, alberga la antigua colección privada de obras de arte\, objetos arqueológicos y demás antigüedades reunida por Enrique de Aguilera y Gamboa\, XVII marqués de Cerralbo\, ejerció la política\, pero es recordado por su faceta como historiador y promotor de diversas excavaciones arqueológicas. \nPunto de encuentro: TANDEM Madrid Precio: 5€ pagar en Secretaría.\n[/vc_column_text][/vc_column][/vc_row] \nFoto de Benjamín Núñez\, Wikimedia
URL:https://old.tandemmadrid.com/es/evento/museo-cerralbo/
CATEGORIES:Programa Cultural TANDEM
ATTACH;FMTTYPE=image/jpeg:https://old.tandemmadrid.com/es/wp-content/uploads/sites/4/museo-cerralbo.jpg
END:VEVENT
END:VCALENDAR