BEGIN:VCALENDAR
VERSION:2.0
PRODID:-//Cursos de español en Madrid. TANDEM Madrid escuela de español - ECPv5.3.1.1//NONSGML v1.0//EN
CALSCALE:GREGORIAN
METHOD:PUBLISH
X-WR-CALNAME:Cursos de español en Madrid. TANDEM Madrid escuela de español
X-ORIGINAL-URL:https://old.tandemmadrid.com/es
X-WR-CALDESC:Events for Cursos de español en Madrid. TANDEM Madrid escuela de español
BEGIN:VTIMEZONE
TZID:Europe/Madrid
BEGIN:DAYLIGHT
TZOFFSETFROM:+0100
TZOFFSETTO:+0200
TZNAME:CEST
DTSTART:20170326T010000
END:DAYLIGHT
BEGIN:STANDARD
TZOFFSETFROM:+0200
TZOFFSETTO:+0100
TZNAME:CET
DTSTART:20171029T010000
END:STANDARD
END:VTIMEZONE
BEGIN:VEVENT
DTSTART;TZID=Europe/Madrid:20171016T210000
DTEND;TZID=Europe/Madrid:20171016T210000
DTSTAMP:20260419T150344
CREATED:20160222T162708Z
LAST-MODIFIED:20181014T175815Z
UID:4251-1508187600-1508187600@old.tandemmadrid.com
SUMMARY:Programa Cultural TANDEM: Noche de Karaoke
DESCRIPTION:Te gusta cantar? El Karaoke es una forma divertida de pasar un rato agradable y además practicar español. Ven a disfrutar de una noche de karaoke con tus compañeros de TANDEM y diviértete! \nPunto de encuentro: escuela TANDEM\, a las 21:00h 
URL:https://old.tandemmadrid.com/es/evento/karaoke/
LOCATION:Cines Renoir Princesa\, Calle Marques de cubas\, 8\, Madrid\, 28014\, España
CATEGORIES:Programa Cultural TANDEM,Salir por Madrid
ATTACH;FMTTYPE=image/jpeg:https://old.tandemmadrid.com/es/wp-content/uploads/sites/4/2015/10/karaoke.jpg
ORGANIZER;CN="TANDEM%20Madrid":MAILTO:spanishcourses@tandem-madrid.com
END:VEVENT
END:VCALENDAR