BEGIN:VCALENDAR
VERSION:2.0
PRODID:-//Cursos de español en Madrid. TANDEM Madrid escuela de español - ECPv5.3.1.1//NONSGML v1.0//EN
CALSCALE:GREGORIAN
METHOD:PUBLISH
X-WR-CALNAME:Cursos de español en Madrid. TANDEM Madrid escuela de español
X-ORIGINAL-URL:https://old.tandemmadrid.com/es
X-WR-CALDESC:Events for Cursos de español en Madrid. TANDEM Madrid escuela de español
BEGIN:VTIMEZONE
TZID:Europe/Madrid
BEGIN:DAYLIGHT
TZOFFSETFROM:+0100
TZOFFSETTO:+0200
TZNAME:CEST
DTSTART:20160327T010000
END:DAYLIGHT
BEGIN:STANDARD
TZOFFSETFROM:+0200
TZOFFSETTO:+0100
TZNAME:CET
DTSTART:20161030T010000
END:STANDARD
END:VTIMEZONE
BEGIN:VEVENT
DTSTART;TZID=Europe/Madrid:20160223T110000
DTEND;TZID=Europe/Madrid:20160228T200000
DTSTAMP:20260419T143618
CREATED:20160213T172956Z
LAST-MODIFIED:20160213T172956Z
UID:4240-1456225200-1456689600@old.tandemmadrid.com
SUMMARY:JustMad 2016
DESCRIPTION:JustMad es una feria de arte contemporaneo que busca promover a artistas emergentes\, y ofrecer propuestas innovadoras en el mundo del arte. La JustMad se propone servir de enlace entre artistas y coleccionistas\, en un espacio de intercambio cultural que busca también involucrar a la comunidad en general en el mundo del arte.
URL:https://old.tandemmadrid.com/es/evento/justmad-2016/
LOCATION:COAM – Colegio Oficial de Arquitectos de Madrid\, Calle de Hortaleza\, 63\, Madrid\, 28004\, España
CATEGORIES:Exposiciones Artísticas
ATTACH;FMTTYPE=image/jpeg:https://old.tandemmadrid.com/es/wp-content/uploads/sites/4/2015/10/justmad-2016.jpg
END:VEVENT
END:VCALENDAR