BEGIN:VCALENDAR
VERSION:2.0
PRODID:-//Cursos de español en Madrid. TANDEM Madrid escuela de español - ECPv5.3.1.1//NONSGML v1.0//EN
CALSCALE:GREGORIAN
METHOD:PUBLISH
X-WR-CALNAME:Cursos de español en Madrid. TANDEM Madrid escuela de español
X-ORIGINAL-URL:https://old.tandemmadrid.com/es
X-WR-CALDESC:Events for Cursos de español en Madrid. TANDEM Madrid escuela de español
BEGIN:VTIMEZONE
TZID:Europe/Madrid
BEGIN:DAYLIGHT
TZOFFSETFROM:+0100
TZOFFSETTO:+0200
TZNAME:CEST
DTSTART:20210328T010000
END:DAYLIGHT
BEGIN:STANDARD
TZOFFSETFROM:+0200
TZOFFSETTO:+0100
TZNAME:CET
DTSTART:20211031T010000
END:STANDARD
END:VTIMEZONE
BEGIN:VEVENT
DTSTART;TZID=Europe/Madrid:20210729T193000
DTEND;TZID=Europe/Madrid:20210729T210000
DTSTAMP:20260419T161505
CREATED:20210519T090216Z
LAST-MODIFIED:20210722T113007Z
UID:6175-1627587000-1627592400@old.tandemmadrid.com
SUMMARY:Programa Cultural TANDEM: ¡Vamos a Jugar al Fútbol!
DESCRIPTION:[vc_row][vc_column][vc_column_text] \nNo todo van a ser excursiones\, también de vez en cuando es bueno hacer un poco de deporte para socializar y ponerse en forma. Por eso\, ven con nosotros a echar un partido de fútbol el deporte universal conocido en todo el mundo y que une a la gente y a sus distintas culturas. No importa tu nivel\, ni tu género\, ni tu estado de forma\, simplemente vente para echar la tarde disfrutando de este maravilloso deporte y del tiempo que hace en Madrid. \nCómo también creemos que la actividad física es importante para nuestros alumnos hemos decidido organizar un partido de fútbol. Reúnete con nosotros en la escuela para ir a un campo de fútbol cercano dónde haremos equipos para poder hacer que ruede el balón lo antes posible. No importa quien gane ¿o sí? \nPunto de encuentro: TANDEM Madrid (Hora pendiente de confirmar)\n[/vc_column_text][/vc_column][/vc_row]
URL:https://old.tandemmadrid.com/es/evento/jugar-al-futbol/
CATEGORIES:Deportes
ATTACH;FMTTYPE=image/jpeg:https://old.tandemmadrid.com/es/wp-content/uploads/sites/4/vamos-a-jugar-al-futbol.jpeg
ORGANIZER;CN="TANDEM%20Madrid":MAILTO:spanishcourses@tandem-madrid.com
END:VEVENT
END:VCALENDAR