BEGIN:VCALENDAR
VERSION:2.0
PRODID:-//Cursos de español en Madrid. TANDEM Madrid escuela de español - ECPv5.3.1.1//NONSGML v1.0//EN
CALSCALE:GREGORIAN
METHOD:PUBLISH
X-WR-CALNAME:Cursos de español en Madrid. TANDEM Madrid escuela de español
X-ORIGINAL-URL:https://old.tandemmadrid.com/es
X-WR-CALDESC:Events for Cursos de español en Madrid. TANDEM Madrid escuela de español
BEGIN:VTIMEZONE
TZID:Europe/Madrid
BEGIN:DAYLIGHT
TZOFFSETFROM:+0100
TZOFFSETTO:+0200
TZNAME:CEST
DTSTART:20210328T010000
END:DAYLIGHT
BEGIN:STANDARD
TZOFFSETFROM:+0200
TZOFFSETTO:+0100
TZNAME:CET
DTSTART:20211031T010000
END:STANDARD
END:VTIMEZONE
BEGIN:VEVENT
DTSTART;TZID=Europe/Madrid:20210730T140000
DTEND;TZID=Europe/Madrid:20210730T170000
DTSTAMP:20260419T144001
CREATED:20210723T104722Z
LAST-MODIFIED:20210723T110054Z
UID:6231-1627653600-1627664400@old.tandemmadrid.com
SUMMARY:Programa Cultural TANDEM: Gimkana en el Museo Arqueológico
DESCRIPTION:Ven al Museo Arqueológico Nacional con Tandem Madrid. Disfruta del principal museo Español dedicado exlusivamente a la arqueología. En este museo se pueden encontrar las mejores piezas históricas españolas de la época de la Prehistoria hasta la Edad Moderna. Aunque también podrás disfrutar de colecciones extranjeras\, de la Antigua Grecia\, del Antiguo Egipto\, de la Antigua Roma y del Oriente Próximo. Este museo se encuentra en la calle Serrano junto a la Plaza de Colón. \nAdemás\, TANDEM Madrid te ofrece la posibilidad de descubrir este museo y todos sus secretos de una forma muy especial y divertida ya que organizamos una gimkana para que puedas conocer hasta los lugares más reconditos del museo divirtiéndote. Si te gustan los retos no lo dudes más y vente con nosotros\, te entregaremos un mapa del tesoro en el que tendrás que ir descifrando enigmas hasta llegar al premio final. \nPunto de encuentro: TANDEM Madrid a las 14.00 H. Entrada Gratuita.
URL:https://old.tandemmadrid.com/es/evento/gimkana-museo-arqueologico/
CATEGORIES:Exposiciones Artísticas,Programa Cultural TANDEM,Visitas por Madrid
ATTACH;FMTTYPE=image/jpeg:https://old.tandemmadrid.com/es/wp-content/uploads/sites/4/gimkana-museo-arqueologico-madrid-scaled.jpg
END:VEVENT
END:VCALENDAR