BEGIN:VCALENDAR
VERSION:2.0
PRODID:-//Cursos de español en Madrid. TANDEM Madrid escuela de español - ECPv5.3.1.1//NONSGML v1.0//EN
CALSCALE:GREGORIAN
METHOD:PUBLISH
X-WR-CALNAME:Cursos de español en Madrid. TANDEM Madrid escuela de español
X-ORIGINAL-URL:https://old.tandemmadrid.com/es
X-WR-CALDESC:Events for Cursos de español en Madrid. TANDEM Madrid escuela de español
BEGIN:VTIMEZONE
TZID:Europe/Madrid
BEGIN:DAYLIGHT
TZOFFSETFROM:+0100
TZOFFSETTO:+0200
TZNAME:CEST
DTSTART:20160327T010000
END:DAYLIGHT
BEGIN:STANDARD
TZOFFSETFROM:+0200
TZOFFSETTO:+0100
TZNAME:CET
DTSTART:20161030T010000
END:STANDARD
END:VTIMEZONE
BEGIN:VEVENT
DTSTART;TZID=Europe/Madrid:20160324T100000
DTEND;TZID=Europe/Madrid:20160410T214500
DTSTAMP:20260419T143616
CREATED:20160324T163559Z
LAST-MODIFIED:20190913T123735Z
UID:4283-1458813600-1460324700@old.tandemmadrid.com
SUMMARY:Generación 2016
DESCRIPTION:Generaciones es una iniciativa de Fundación Montemadrid que comenzó en el año 2000 con el objetivo de promover el trabajo de jóvenes creadores. Esta convocatoria se ha convertido en un referente imprescindible para la difusión del arte joven en el panorama nacional y europeo. El programa se materializa en la exposición “Generación 2016” y la publicación del catálogo que acompaña a la muestra.
URL:https://old.tandemmadrid.com/es/evento/generacion-2016/
LOCATION:La Casa Encendida\, Ronda de Valencia\, 2\, Madrid\, 28012\, España
CATEGORIES:Exposiciones Artísticas
ATTACH;FMTTYPE=image/jpeg:https://old.tandemmadrid.com/es/wp-content/uploads/sites/4/2015/10/expo_generacion_2016.jpg
ORGANIZER;CN="Fundaci%C3%B3n%20Montemadrid":MAILTO:consultas@montemadrid.es
END:VEVENT
END:VCALENDAR