BEGIN:VCALENDAR
VERSION:2.0
PRODID:-//Cursos de español en Madrid. TANDEM Madrid escuela de español - ECPv5.3.1.1//NONSGML v1.0//EN
CALSCALE:GREGORIAN
METHOD:PUBLISH
X-WR-CALNAME:Cursos de español en Madrid. TANDEM Madrid escuela de español
X-ORIGINAL-URL:https://old.tandemmadrid.com/es
X-WR-CALDESC:Events for Cursos de español en Madrid. TANDEM Madrid escuela de español
BEGIN:VTIMEZONE
TZID:Europe/Madrid
BEGIN:DAYLIGHT
TZOFFSETFROM:+0100
TZOFFSETTO:+0200
TZNAME:CEST
DTSTART:20160327T010000
END:DAYLIGHT
BEGIN:STANDARD
TZOFFSETFROM:+0200
TZOFFSETTO:+0100
TZNAME:CET
DTSTART:20161030T010000
END:STANDARD
END:VTIMEZONE
BEGIN:VEVENT
DTSTART;VALUE=DATE:20160114
DTEND;VALUE=DATE:20160125
DTSTAMP:20260419T142852
CREATED:20160116T143936Z
LAST-MODIFIED:20160116T144623Z
UID:4157-1452729600-1453679999@old.tandemmadrid.com
SUMMARY:Gastroletras 2016
DESCRIPTION:El Gastroletras es un original evento realizado en el barrio de las letras\, donde está ubicada la escuela TANDEM Madrid. Su propuesta es combinar la gastronomía con literatura\, materializando imágenes\, personajes y otros elementos de obras literarias famosas en platos de alta cocina. \nEl Gastroletras 2016 se realiza en 37 bares y restaurantes del barrio de las letras. En cada uno podrás disfrutar de las propuestas de cada local\, y votar en línea por los platos que más te gusten. Al votar\, participarás en el sorteo de un iPad Air. \nCada tapa con botellín de Mahou cuesta 3 €
URL:https://old.tandemmadrid.com/es/evento/gastroletras-2016/
LOCATION:Barrio de las Letras\, Madrid\, Madrid\, 28014\, España
CATEGORIES:Ferias Culturales,Salir por Madrid
ATTACH;FMTTYPE=image/jpeg:https://old.tandemmadrid.com/es/wp-content/uploads/sites/4/2015/12/gastroletras.jpg
ORGANIZER;CN="La%20Vi%C3%B1a%2C%20Asociaci%C3%B3n%20Empresarial%20de%20Hosteler%C3%ADa%20de%20la%20Comunidad%20de%20Madrid":MAILTO:info@hosteleriamadrid.com
END:VEVENT
END:VCALENDAR