BEGIN:VCALENDAR
VERSION:2.0
PRODID:-//Cursos de español en Madrid. TANDEM Madrid escuela de español - ECPv5.3.1.1//NONSGML v1.0//EN
CALSCALE:GREGORIAN
METHOD:PUBLISH
X-WR-CALNAME:Cursos de español en Madrid. TANDEM Madrid escuela de español
X-ORIGINAL-URL:https://old.tandemmadrid.com/es
X-WR-CALDESC:Events for Cursos de español en Madrid. TANDEM Madrid escuela de español
BEGIN:VTIMEZONE
TZID:Europe/Madrid
BEGIN:DAYLIGHT
TZOFFSETFROM:+0100
TZOFFSETTO:+0200
TZNAME:CEST
DTSTART:20160327T010000
END:DAYLIGHT
BEGIN:STANDARD
TZOFFSETFROM:+0200
TZOFFSETTO:+0100
TZNAME:CET
DTSTART:20161030T010000
END:STANDARD
END:VTIMEZONE
BEGIN:VEVENT
DTSTART;TZID=Europe/Madrid:20160305T200000
DTEND;TZID=Europe/Madrid:20160305T220000
DTSTAMP:20260419T161207
CREATED:20160213T165247Z
LAST-MODIFIED:20190906T124059Z
UID:4238-1457208000-1457215200@old.tandemmadrid.com
SUMMARY:Madrid es Negro: Madrid Funk All Stars
DESCRIPTION:Madrid es Negro es un festival de música negra americana (Soul)\, organizado por la revista Enlace Funky y el club Maderfaker. Este año el homenajeado es James Brown\, a través de conciertos en diferentes salas de Madrid. Una cita de las más interesantes para los amantes de la música en general\, y del Soul/ Funky en particular. \nEl festival Madrid es Negro finaliza el próximo 5 de marzo con una gran actuación del grupo Madrid Funk All Stars. Una de las bandas de Funk más grandes que jamás se ha reunido en este país. Un súper grupo formado por miembros de The Sweet Vandals\, Freedonia\, The Black Bones\, Anaut\, etc\, que repasaran la historia musical de James Brown reproduciendo el sonido original del creador del ritmo en el club Shôko. \nShôko es un original club en Madrid que combina espacios para fiestas y eventos con un restaurante asiático de la mejor calidad. Además de conciertos\, es uno de los locales nocturnos más conocidos del barrio de La Latina.
URL:https://old.tandemmadrid.com/es/evento/funk-all-stars/
LOCATION:Club Shôko\, Calle Toledo\, 86\, Madrid\, 28005\, España
CATEGORIES:Espectáculos
ATTACH;FMTTYPE=image/png:https://old.tandemmadrid.com/es/wp-content/uploads/sites/4/2015/10/madridesnegro.png
ORGANIZER;CN="Enlace%20Funk%20Magazine":MAILTO:enlacefunk@gmail.com
END:VEVENT
END:VCALENDAR