BEGIN:VCALENDAR
VERSION:2.0
PRODID:-//Cursos de español en Madrid. TANDEM Madrid escuela de español - ECPv5.3.1.1//NONSGML v1.0//EN
CALSCALE:GREGORIAN
METHOD:PUBLISH
X-WR-CALNAME:Cursos de español en Madrid. TANDEM Madrid escuela de español
X-ORIGINAL-URL:https://old.tandemmadrid.com/es
X-WR-CALDESC:Events for Cursos de español en Madrid. TANDEM Madrid escuela de español
BEGIN:VTIMEZONE
TZID:Europe/Madrid
BEGIN:DAYLIGHT
TZOFFSETFROM:+0100
TZOFFSETTO:+0200
TZNAME:CEST
DTSTART:20220327T010000
END:DAYLIGHT
BEGIN:STANDARD
TZOFFSETFROM:+0200
TZOFFSETTO:+0100
TZNAME:CET
DTSTART:20221030T010000
END:STANDARD
END:VTIMEZONE
BEGIN:VEVENT
DTSTART;TZID=Europe/Madrid:20221107T163000
DTEND;TZID=Europe/Madrid:20221107T180000
DTSTAMP:20260419T161535
CREATED:20221104T120356Z
LAST-MODIFIED:20221104T120538Z
UID:6512-1667838600-1667844000@old.tandemmadrid.com
SUMMARY:Visita exposición: Picasso y Julio González en Fundación Mapfre
DESCRIPTION:[vc_row][vc_column][vc_column_text] \nPunto de encuentro:TANDEM Madrid a las 16:30 P.M.\n[/vc_column_text][/vc_column][/vc_row] \nImagen de Rosa G. en flickr
URL:https://old.tandemmadrid.com/es/evento/exposicion-picasso-julio-gonzalez/
CATEGORIES:Exposiciones Artísticas
ATTACH;FMTTYPE=image/jpeg:https://old.tandemmadrid.com/es/wp-content/uploads/sites/4/fundacion-mapfre-madrid.jpg
END:VEVENT
END:VCALENDAR