BEGIN:VCALENDAR
VERSION:2.0
PRODID:-//Cursos de español en Madrid. TANDEM Madrid escuela de español - ECPv5.3.1.1//NONSGML v1.0//EN
CALSCALE:GREGORIAN
METHOD:PUBLISH
X-WR-CALNAME:Cursos de español en Madrid. TANDEM Madrid escuela de español
X-ORIGINAL-URL:https://old.tandemmadrid.com/es
X-WR-CALDESC:Events for Cursos de español en Madrid. TANDEM Madrid escuela de español
BEGIN:VTIMEZONE
TZID:Europe/Madrid
BEGIN:DAYLIGHT
TZOFFSETFROM:+0100
TZOFFSETTO:+0200
TZNAME:CEST
DTSTART:20230326T010000
END:DAYLIGHT
BEGIN:STANDARD
TZOFFSETFROM:+0200
TZOFFSETTO:+0100
TZNAME:CET
DTSTART:20231029T010000
END:STANDARD
END:VTIMEZONE
BEGIN:VEVENT
DTSTART;TZID=Europe/Madrid:20230425T131500
DTEND;TZID=Europe/Madrid:20230425T170000
DTSTAMP:20260419T143751
CREATED:20230310T111627Z
LAST-MODIFIED:20230421T150920Z
UID:6568-1682428500-1682442000@old.tandemmadrid.com
SUMMARY:Visita a la exposición de Juan Muñoz: “todo lo que veo me sobrevivirá”
DESCRIPTION:Juan Muñoz fue uno de los artistas europeos más importantes de la segunda mitad del S. XX.  \nEsta exposición recorre dos décadas de la trayectoria del escultor\, reuniendo algunas de sus piezas más icónicas\, fechadas entre los años 90 y 2001\, año de su prematura muerte.  \nLa última década de producción de Juan Muñoz\, que en esta exposición veremos\,  estuvo marcada por el dominio del espacio\, en una concepción neobarroca\, y por la recuperación de la figura humana como elemento central de trabajo.  \nPunto de encuentro : TANDEM Madrid\, a la 13:15 P.M.\nFotografía de Neva Micheva\, en wikimedia
URL:https://old.tandemmadrid.com/es/evento/exposicion-juan-munoz/
CATEGORIES:Exposiciones Artísticas,Programa Cultural TANDEM
ATTACH;FMTTYPE=image/jpeg:https://old.tandemmadrid.com/es/wp-content/uploads/sites/4/ThirteenLaughing-juan-munoz.jpg
END:VEVENT
END:VCALENDAR