BEGIN:VCALENDAR
VERSION:2.0
PRODID:-//Cursos de español en Madrid. TANDEM Madrid escuela de español - ECPv5.3.1.1//NONSGML v1.0//EN
CALSCALE:GREGORIAN
METHOD:PUBLISH
X-WR-CALNAME:Cursos de español en Madrid. TANDEM Madrid escuela de español
X-ORIGINAL-URL:https://old.tandemmadrid.com/es
X-WR-CALDESC:Events for Cursos de español en Madrid. TANDEM Madrid escuela de español
BEGIN:VTIMEZONE
TZID:Europe/Madrid
BEGIN:DAYLIGHT
TZOFFSETFROM:+0100
TZOFFSETTO:+0200
TZNAME:CEST
DTSTART:20220327T010000
END:DAYLIGHT
BEGIN:STANDARD
TZOFFSETFROM:+0200
TZOFFSETTO:+0100
TZNAME:CET
DTSTART:20221030T010000
END:STANDARD
END:VTIMEZONE
BEGIN:VEVENT
DTSTART;TZID=Europe/Madrid:20221006T181500
DTEND;TZID=Europe/Madrid:20221006T193000
DTSTAMP:20260419T143902
CREATED:20220930T121735Z
LAST-MODIFIED:20220930T135713Z
UID:6495-1665080100-1665084600@old.tandemmadrid.com
SUMMARY:Visita a la exposición: Clara Campoamor
DESCRIPTION:[vc_row][vc_column][vc_column_text]Dentro del Programa Cultural TANDEM Madrid\, esta semana visitaremos la exposición\, Clara Campoamor Rodríguez: mujer y ciudadana (1888-1972)\, organizada por la Secretaría de Estado de Memoria Democrática\, la Biblioteca Nacional de España (BNE) y Acción Cultural Española (ACE). \nLa exposición conmemora el cincuentenario de la muerte de Clara Campoamor (30 de abril de 1972)\, una piorena en la reinvidicación de los derechos de las mujeres y de la democracia\, que también fue una de las primeras abogadas españolas\, diputada en las Cortes de la II República.\n[/vc_column_text][vc_column_text] \n\nPunto de encuentro: A las 18:15h en el Paseo de Recoletos\, 20-22 . \n\n[/vc_column_text][/vc_column][/vc_row]
URL:https://old.tandemmadrid.com/es/evento/exposicion-clara-campoamor/
CATEGORIES:Exposiciones Artísticas
ATTACH;FMTTYPE=image/jpeg:https://old.tandemmadrid.com/es/wp-content/uploads/sites/4/clara-campoamor.jpg
END:VEVENT
END:VCALENDAR