BEGIN:VCALENDAR
VERSION:2.0
PRODID:-//Cursos de español en Madrid. TANDEM Madrid escuela de español - ECPv5.3.1.1//NONSGML v1.0//EN
CALSCALE:GREGORIAN
METHOD:PUBLISH
X-WR-CALNAME:Cursos de español en Madrid. TANDEM Madrid escuela de español
X-ORIGINAL-URL:https://old.tandemmadrid.com/es
X-WR-CALDESC:Events for Cursos de español en Madrid. TANDEM Madrid escuela de español
BEGIN:VTIMEZONE
TZID:Europe/Madrid
BEGIN:DAYLIGHT
TZOFFSETFROM:+0100
TZOFFSETTO:+0200
TZNAME:CEST
DTSTART:20210328T010000
END:DAYLIGHT
BEGIN:STANDARD
TZOFFSETFROM:+0200
TZOFFSETTO:+0100
TZNAME:CET
DTSTART:20211031T010000
END:STANDARD
END:VTIMEZONE
BEGIN:VEVENT
DTSTART;TZID=Europe/Madrid:20210724T093000
DTEND;TZID=Europe/Madrid:20210724T190000
DTSTAMP:20260419T142659
CREATED:20210715T112550Z
LAST-MODIFIED:20210715T125436Z
UID:6217-1627119000-1627153200@old.tandemmadrid.com
SUMMARY:Programa Cultural TANDEM: Excursión a Aranjuez
DESCRIPTION:[vc_row][vc_column][vc_column_text] \n¿Quieres ir a otra ciudad de la Comunidad de Madrid? ¿Preparado para una excursión? Si tu respuesta es afirmativa no te puedes perder esta excursión a Aranjuez en la que pasaremos la gran parte del día visitando esta bonita ciudad del Sur de Madrid a orillas del Río Tajo. Una ciudad tranquila y bella que cuenta con muchas atracciones turísticas y a la que debes ir si o si antes de irte de Madrid. Se trata de uno de esos sitios recónditos de la Comunidad de Madrid que merece la pena visitar. \n¿Y qué puedes visitar en Aranjuez? Pues principalmente destaca por su Palacio Real de estilo renacentista con influencia francesa\, su fachada y su interior cuentan con una decoración lujosa en la que incluye una habitación de porcelana. Además\, en los terrenos del jardín se puede encontrar jardines ornamentales de grna belleza como el Jardín de la Isla o El Jardín del Principe en la que se encuentra la Casa del Labrador\, una ornamentada mansión neoclásica en la que también hay un estanque decorado con un Pabellón Chinesco. \nPunto de encuentro: En la escuela TANDEM a las 09.30 H. Precio: Transporte y Actividades\n[/vc_column_text][/vc_column][/vc_row]
URL:https://old.tandemmadrid.com/es/evento/excursion-aranjuez/
CATEGORIES:Excursiones,Programa Cultural TANDEM,Visitas por Madrid
ATTACH;FMTTYPE=image/jpeg:https://old.tandemmadrid.com/es/wp-content/uploads/sites/4/excursion-aranjuez.jpg
END:VEVENT
END:VCALENDAR