BEGIN:VCALENDAR
VERSION:2.0
PRODID:-//Cursos de español en Madrid. TANDEM Madrid escuela de español - ECPv5.3.1.1//NONSGML v1.0//EN
CALSCALE:GREGORIAN
METHOD:PUBLISH
X-WR-CALNAME:Cursos de español en Madrid. TANDEM Madrid escuela de español
X-ORIGINAL-URL:https://old.tandemmadrid.com/es
X-WR-CALDESC:Events for Cursos de español en Madrid. TANDEM Madrid escuela de español
BEGIN:VTIMEZONE
TZID:Europe/Madrid
BEGIN:DAYLIGHT
TZOFFSETFROM:+0100
TZOFFSETTO:+0200
TZNAME:CEST
DTSTART:20230326T010000
END:DAYLIGHT
BEGIN:STANDARD
TZOFFSETFROM:+0200
TZOFFSETTO:+0100
TZNAME:CET
DTSTART:20231029T010000
END:STANDARD
END:VTIMEZONE
BEGIN:VEVENT
DTSTART;TZID=Europe/Madrid:20230601T184500
DTEND;TZID=Europe/Madrid:20230601T200000
DTSTAMP:20260419T144001
CREATED:20230526T143100Z
LAST-MODIFIED:20230526T143100Z
UID:6596-1685645100-1685649600@old.tandemmadrid.com
SUMMARY:Estreno de un cortometraje de Pedro Almodóvar en cines Ideal y coloquio
DESCRIPTION:[vc_row][vc_column][vc_column_text]\nEL aclamado director de cine\, Pedro Almodovar estrena su último y esperado cortometraje\, protagonizado por Ethan Hawke y Pedro Pascal. En palabras del director\, la trama trata\nalude a un famoso fadocuya letra sugiere que “no hay existencia más extraña que aquella que se vive de espaldas a tus propios deseos”. \nPedro Almodovar es el director de cine español con más alcance mundial. Sus películas son reconocidas por su particular estilo de narrar y su estética\, que mezcla la cultura popular española con las últimas tendencias vanguardistas.\n[/vc_column_text][/vc_column][/vc_row][vc_row][vc_column][vc_column_text] \nPunto de encuentro: Entrada del cine “Yelmo IDEAL” en C\ Dr. Cortezo\,6 a las 18:45h\n[/vc_column_text][/vc_column][/vc_row]
URL:https://old.tandemmadrid.com/es/evento/cortometraje-almodovar-coloquio/
CATEGORIES:cinema
ATTACH;FMTTYPE=image/jpeg:https://old.tandemmadrid.com/es/wp-content/uploads/sites/4/almodovar-cine.jpg
END:VEVENT
END:VCALENDAR