BEGIN:VCALENDAR
VERSION:2.0
PRODID:-//Cursos de español en Madrid. TANDEM Madrid escuela de español - ECPv5.3.1.1//NONSGML v1.0//EN
CALSCALE:GREGORIAN
METHOD:PUBLISH
X-WR-CALNAME:Cursos de español en Madrid. TANDEM Madrid escuela de español
X-ORIGINAL-URL:https://old.tandemmadrid.com/es
X-WR-CALDESC:Events for Cursos de español en Madrid. TANDEM Madrid escuela de español
BEGIN:VTIMEZONE
TZID:Europe/Madrid
BEGIN:DAYLIGHT
TZOFFSETFROM:+0100
TZOFFSETTO:+0200
TZNAME:CEST
DTSTART:20170326T010000
END:DAYLIGHT
BEGIN:STANDARD
TZOFFSETFROM:+0200
TZOFFSETTO:+0100
TZNAME:CET
DTSTART:20171029T010000
END:STANDARD
END:VTIMEZONE
BEGIN:VEVENT
DTSTART;TZID=Europe/Madrid:20170320T180000
DTEND;TZID=Europe/Madrid:20170320T203000
DTSTAMP:20260419T150525
CREATED:20170306T232355Z
LAST-MODIFIED:20170306T232355Z
UID:4944-1490032800-1490041800@old.tandemmadrid.com
SUMMARY:Copia Certificada - Sesión de cine
DESCRIPTION:El iraní Abbas Kiarostami (1940-2016) fue uno de los directores más reputados del cine contemporáneo. Autor de obras como El sabor de las cerezas (Palma de Oro en Cannes 1997) destacó también como poeta\, fotógrafo\, pintor\, ilustrador y diseñador gráfico.   \nEl prestigioso director iraní propone en esta brillante película una interesante reflexión sobre el valor de la originalidad en el arte. Su título hace referencia al juego de espejos que establece con el clásico de Roberto Rossellini Te querré siempre.
URL:https://old.tandemmadrid.com/es/evento/copia-certificada-sesion-cine/
LOCATION:Cineteca Madrid\, Plaza de Legazpi\, 8\, Madrid\, Madrid\, 28012\, España
CATEGORIES:cinema,Salir por Madrid
ATTACH;FMTTYPE=image/jpeg:https://old.tandemmadrid.com/es/wp-content/uploads/sites/4/copia-certidicada.jpg
ORGANIZER;CN="Matadero%20Madrid":MAILTO:andrea.temes@mataderomadrid.org
END:VEVENT
END:VCALENDAR