BEGIN:VCALENDAR
VERSION:2.0
PRODID:-//Cursos de español en Madrid. TANDEM Madrid escuela de español - ECPv5.3.1.1//NONSGML v1.0//EN
CALSCALE:GREGORIAN
METHOD:PUBLISH
X-WR-CALNAME:Cursos de español en Madrid. TANDEM Madrid escuela de español
X-ORIGINAL-URL:https://old.tandemmadrid.com/es
X-WR-CALDESC:Events for Cursos de español en Madrid. TANDEM Madrid escuela de español
BEGIN:VTIMEZONE
TZID:Europe/Madrid
BEGIN:DAYLIGHT
TZOFFSETFROM:+0100
TZOFFSETTO:+0200
TZNAME:CEST
DTSTART:20170326T010000
END:DAYLIGHT
BEGIN:STANDARD
TZOFFSETFROM:+0200
TZOFFSETTO:+0100
TZNAME:CET
DTSTART:20171029T010000
END:STANDARD
END:VTIMEZONE
BEGIN:VEVENT
DTSTART;TZID=Europe/Madrid:20171021T180000
DTEND;TZID=Europe/Madrid:20171022T010000
DTSTAMP:20260419T143751
CREATED:20170828T194337Z
LAST-MODIFIED:20170828T194845Z
UID:5143-1508608800-1508634000@old.tandemmadrid.com
SUMMARY:Coca Cola Music Experience 2017
DESCRIPTION:El próximo 21 de Octubre regresa Coca Cola Music Experience para traer a los artistas más destacados del momento del panorama nacional e internacional.\nEl evento\, que durará más de seis horas\, tendrá lugar en el Palacio de los Deportes de Madrid.\nAlgunos de los artistas confirmados son: CNCO\, Lali Espósito\, Ana Mena o Blas Cantó entre muchísimos otros con el fin de convertir el evento en una auténtica fiesta.
URL:https://old.tandemmadrid.com/es/evento/coca-cola-music-experience-2017/
LOCATION:Barclaycard Center\, Avenida de Felipe II s/n\, Madrid\, Madrid\, 28009\, España
CATEGORIES:Música
ATTACH;FMTTYPE=image/jpeg:https://old.tandemmadrid.com/es/wp-content/uploads/sites/4/cocacola-festival.jpg
END:VEVENT
END:VCALENDAR