BEGIN:VCALENDAR
VERSION:2.0
PRODID:-//Cursos de español en Madrid. TANDEM Madrid escuela de español - ECPv5.3.1.1//NONSGML v1.0//EN
CALSCALE:GREGORIAN
METHOD:PUBLISH
X-WR-CALNAME:Cursos de español en Madrid. TANDEM Madrid escuela de español
X-ORIGINAL-URL:https://old.tandemmadrid.com/es
X-WR-CALDESC:Events for Cursos de español en Madrid. TANDEM Madrid escuela de español
BEGIN:VTIMEZONE
TZID:Europe/Madrid
BEGIN:DAYLIGHT
TZOFFSETFROM:+0100
TZOFFSETTO:+0200
TZNAME:CEST
DTSTART:20160327T010000
END:DAYLIGHT
BEGIN:STANDARD
TZOFFSETFROM:+0200
TZOFFSETTO:+0100
TZNAME:CET
DTSTART:20161030T010000
END:STANDARD
END:VTIMEZONE
BEGIN:VEVENT
DTSTART;TZID=Europe/Madrid:20160315T134500
DTEND;TZID=Europe/Madrid:20160315T160000
DTSTAMP:20260419T161505
CREATED:20160205T170853Z
LAST-MODIFIED:20190906T124442Z
UID:4199-1458049500-1458057600@old.tandemmadrid.com
SUMMARY:Programa Cultural TANDEM: Clase de cocina española
DESCRIPTION:Aprende a cocinar algunos de los platos más icónicos de la gastronomía española. \nPrecio: 20 € (pagar en secretaría) \nPunto de encuentro: Escuela TANDEM\, 13: 00.
URL:https://old.tandemmadrid.com/es/evento/clase-de-cocina-espanola-2/
LOCATION:Cines Renoir Princesa\, Calle Marques de cubas\, 8\, Madrid\, 28014\, España
CATEGORIES:Programa Cultural TANDEM
ATTACH;FMTTYPE=image/jpeg:https://old.tandemmadrid.com/es/wp-content/uploads/sites/4/2015/12/paella.jpg
ORGANIZER;CN="TANDEM%20Madrid":MAILTO:spanishcourses@tandem-madrid.com
END:VEVENT
END:VCALENDAR