BEGIN:VCALENDAR
VERSION:2.0
PRODID:-//Cursos de español en Madrid. TANDEM Madrid escuela de español - ECPv5.3.1.1//NONSGML v1.0//EN
CALSCALE:GREGORIAN
METHOD:PUBLISH
X-WR-CALNAME:Cursos de español en Madrid. TANDEM Madrid escuela de español
X-ORIGINAL-URL:https://old.tandemmadrid.com/es
X-WR-CALDESC:Events for Cursos de español en Madrid. TANDEM Madrid escuela de español
BEGIN:VTIMEZONE
TZID:Europe/Madrid
BEGIN:DAYLIGHT
TZOFFSETFROM:+0100
TZOFFSETTO:+0200
TZNAME:CEST
DTSTART:20230326T010000
END:DAYLIGHT
BEGIN:STANDARD
TZOFFSETFROM:+0200
TZOFFSETTO:+0100
TZNAME:CET
DTSTART:20231029T010000
END:STANDARD
END:VTIMEZONE
BEGIN:VEVENT
DTSTART;TZID=Europe/Madrid:20230809T133000
DTEND;TZID=Europe/Madrid:20230809T150000
DTSTAMP:20260419T150431
CREATED:20230803T123436Z
LAST-MODIFIED:20230803T123436Z
UID:6612-1691587800-1691593200@old.tandemmadrid.com
SUMMARY:Cine Forum: Volver
DESCRIPTION:[vc_row][vc_column][vc_column_text]Volver es una de las películas del famoso cineasta español Pedro Almodóvar. \nRaimunda (Penélope Cruz) es manchega\, pero vive en Madrid. Está casada con un obrero en paro (Antonio de la Torre) y tiene una hija adolescente (Yohana Cobo). Su hermana Sole (Lola Dueñas) se gana la vida como peluquera. Ambas echan de menos a su madre (Carmen Maura)\, que murió en un incendio. Pero\, inesperadamente\, la madre se presenta en casa de su hermana (Lampreave); después va a ver a Sole\, a Raimunda y a Agustina (Portillo)\, una vecina del pueblo. \nTANDEM Madrid siempre ha estado vinculada al trabajo de Almodóvar\, incluso ofrecemos un curso específico sobre el tema\, Español y Pasión por Almodóvar. \nEmociónate con tus compañeros en este momento de cine dónde podrás aprender muchos aspectos interesantes tanto del idioma como de la cultura española.[/vc_column_text][/vc_column][/vc_row][vc_row][vc_column][vc_column_text]Punto de encuentro: En TANDEM a las 13:30h\n[/vc_column_text][/vc_column][/vc_row]
URL:https://old.tandemmadrid.com/es/evento/cine-forum-volver/
CATEGORIES:cinema
ATTACH;FMTTYPE=image/jpeg:https://old.tandemmadrid.com/es/wp-content/uploads/sites/4/2015/11/espanol-y-pasion-por-almodovar.jpg
END:VEVENT
END:VCALENDAR