BEGIN:VCALENDAR
VERSION:2.0
PRODID:-//Cursos de español en Madrid. TANDEM Madrid escuela de español - ECPv5.3.1.1//NONSGML v1.0//EN
CALSCALE:GREGORIAN
METHOD:PUBLISH
X-WR-CALNAME:Cursos de español en Madrid. TANDEM Madrid escuela de español
X-ORIGINAL-URL:https://old.tandemmadrid.com/es
X-WR-CALDESC:Events for Cursos de español en Madrid. TANDEM Madrid escuela de español
BEGIN:VTIMEZONE
TZID:Europe/Madrid
BEGIN:DAYLIGHT
TZOFFSETFROM:+0100
TZOFFSETTO:+0200
TZNAME:CEST
DTSTART:20230326T010000
END:DAYLIGHT
BEGIN:STANDARD
TZOFFSETFROM:+0200
TZOFFSETTO:+0100
TZNAME:CET
DTSTART:20231029T010000
END:STANDARD
END:VTIMEZONE
BEGIN:VEVENT
DTSTART;TZID=Europe/Madrid:20230810T183000
DTEND;TZID=Europe/Madrid:20230810T210000
DTSTAMP:20260419T143617
CREATED:20221010T080622Z
LAST-MODIFIED:20230803T123157Z
UID:6498-1691692200-1691701200@old.tandemmadrid.com
SUMMARY:Tarde de cine\, Filmoteca "Cine Doré"
DESCRIPTION:Película: Los que no perdonan\, John Hsuton\, 1960 \n[vc_row][vc_column][vc_column_text] \nPunto de encuentro: Metro Antón Martín a las 18:30.\n[/vc_column_text][vc_column_text] \nImage de: Zarateman\, Cine Doré (Madrid)\, Licencia Creative Commons Attribution-Share Alike 4.0 International\n[/vc_column_text][/vc_column][/vc_row]
URL:https://old.tandemmadrid.com/es/evento/cine-dore/
CATEGORIES:cinema
ATTACH;FMTTYPE=image/jpeg:https://old.tandemmadrid.com/es/wp-content/uploads/sites/4/madrid-cine-dore.jpg
END:VEVENT
END:VCALENDAR