BEGIN:VCALENDAR
VERSION:2.0
PRODID:-//Cursos de español en Madrid. TANDEM Madrid escuela de español - ECPv5.3.1.1//NONSGML v1.0//EN
CALSCALE:GREGORIAN
METHOD:PUBLISH
X-WR-CALNAME:Cursos de español en Madrid. TANDEM Madrid escuela de español
X-ORIGINAL-URL:https://old.tandemmadrid.com/es
X-WR-CALDESC:Events for Cursos de español en Madrid. TANDEM Madrid escuela de español
BEGIN:VTIMEZONE
TZID:Europe/Madrid
BEGIN:DAYLIGHT
TZOFFSETFROM:+0100
TZOFFSETTO:+0200
TZNAME:CEST
DTSTART:20230326T010000
END:DAYLIGHT
BEGIN:STANDARD
TZOFFSETFROM:+0200
TZOFFSETTO:+0100
TZNAME:CET
DTSTART:20231029T010000
END:STANDARD
END:VTIMEZONE
BEGIN:VEVENT
DTSTART;TZID=Europe/Madrid:20230412T140000
DTEND;TZID=Europe/Madrid:20230412T170000
DTSTAMP:20260419T162016
CREATED:20230410T091459Z
LAST-MODIFIED:20230410T091459Z
UID:6575-1681308000-1681318800@old.tandemmadrid.com
SUMMARY:Cine y coloquio con Cuca Escribano\, protagonista de la película “Atlas de geografía humana”
DESCRIPTION:En este encuentro\, tendremos la ocasión única de disfrutar del visionado de esta maravillosa película\, basada en una novela de la gran escritora\, Almudena Grandes\, contando con la presencia de su protagonista\, Cuca Escribano\, reconocida actriz española de cine\, teatro y series\, cuyo trabajo ha sido galardonado en múltiples ocasiones\, tanto en España como en Latinoamérica. \nPunto de encuentro: TANDEM Madrid\, a las 14:00 P.M.\nFoto de Voces en flickr
URL:https://old.tandemmadrid.com/es/evento/cine-coloquio-atlas-geografia-humana/
CATEGORIES:cinema,Programa Cultural TANDEM
ATTACH;FMTTYPE=image/jpeg:https://old.tandemmadrid.com/es/wp-content/uploads/sites/4/cuca-escribano.jpg
END:VEVENT
END:VCALENDAR