BEGIN:VCALENDAR
VERSION:2.0
PRODID:-//Cursos de español en Madrid. TANDEM Madrid escuela de español - ECPv5.3.1.1//NONSGML v1.0//EN
CALSCALE:GREGORIAN
METHOD:PUBLISH
X-WR-CALNAME:Cursos de español en Madrid. TANDEM Madrid escuela de español
X-ORIGINAL-URL:https://old.tandemmadrid.com/es
X-WR-CALDESC:Events for Cursos de español en Madrid. TANDEM Madrid escuela de español
BEGIN:VTIMEZONE
TZID:Europe/Madrid
BEGIN:DAYLIGHT
TZOFFSETFROM:+0100
TZOFFSETTO:+0200
TZNAME:CEST
DTSTART:20190331T010000
END:DAYLIGHT
BEGIN:STANDARD
TZOFFSETFROM:+0200
TZOFFSETTO:+0100
TZNAME:CET
DTSTART:20191027T010000
END:STANDARD
END:VTIMEZONE
BEGIN:VEVENT
DTSTART;TZID=Europe/Madrid:20191001T203000
DTEND;TZID=Europe/Madrid:20191015T203000
DTSTAMP:20260419T143751
CREATED:20160926T154059Z
LAST-MODIFIED:20190902T084009Z
UID:4563-1569961800-1571171400@old.tandemmadrid.com
SUMMARY:Ciclo Jóvenes Intérpretes 2019
DESCRIPTION:[vc_row][vc_column][vc_column_text] \nPatrocinado por la Fundación Scherzo\, el Ciclo Jóvenes Intérpretes lleva 18 ediciones apoyando la carrera internacional de jóvenes pianistas. \nEste año las actuaciones se realizarán los días 1 y 15 de octubre a las 20.30h y estarán a cargo de: \n\nCARLA ROMÁN VÁZQUEZ – 1 de octubre de 2019\nGIUSEPPE GUARRERA – 15 de octubre de 2019\n\nPara más información visitar la página web de Teatros del Canal \n\n[/vc_column_text][/vc_column][/vc_row]
URL:https://old.tandemmadrid.com/es/evento/ciclo-jovenes-interpretes/
LOCATION:Teatros del Canal\, Cea Bermúdez\, 1\, Madrid\, Madrid\, 28003\, España
CATEGORIES:Espectáculos,Música
ATTACH;FMTTYPE=image/jpeg:https://old.tandemmadrid.com/es/wp-content/uploads/sites/4/Jovenes-talentos.jpg
END:VEVENT
END:VCALENDAR